BEGIN:VCALENDAR
VERSION:2.0
PRODID:-//Mere Kultuurikeskus - ECPv4.9.4//NONSGML v1.0//EN
CALSCALE:GREGORIAN
METHOD:PUBLISH
X-WR-CALNAME:Mere Kultuurikeskus
X-ORIGINAL-URL:https://merekeskus.ee
X-WR-CALDESC:Events for Mere Kultuurikeskus
BEGIN:VTIMEZONE
TZID:"Europe/Moscow"
BEGIN:STANDARD
TZOFFSETFROM:+0300
TZOFFSETTO:+0300
TZNAME:MSK
DTSTART:20260101T000000
END:STANDARD
END:VTIMEZONE
BEGIN:VEVENT
DTSTART;TZID="Europe/Moscow":20260516T190000
DTEND;TZID="Europe/Moscow":20260516T200000
DTSTAMP:20260419T123518
CREATED:20260417T125709Z
LAST-MODIFIED:20260417T125709Z
UID:45079-1778958000-1778961600@merekeskus.ee
SUMMARY:Slaavi kultuuri- ja kirjakeele päevad. Folkloori ja rahvalaulukontsert "Laulusillakesed"
DESCRIPTION:\n\n\nVäike saal \n\n\n\nKontserdis osalevad folkloorikollektiivid  „BÕLITSA“\, „KADRILL“\, „SIRIN“ jt. Kontserdi juhendab tuntud vene folkloori teadlane Irina Vzvartseva. Sündmus on pühendatud Slaavi kultuuri ja kirjakeele päevale.  Sündmus on pühendatud Slaavi kultuuri ja kirjakeele päevale. Sissepääs tasuta.  Üritus toimub vene keeles.\n\n\n\n\n\n\n\n\n\n\n
URL:https://merekeskus.ee/event/slaavi-kultuuri-ja-kirjakeele-paevad-folkloori-ja-rahvalaulukontsert-laulusillakesed/
CATEGORIES:Üritus
ATTACH;FMTTYPE=image/jpeg:https://merekeskus.ee/wp-content/uploads/2026/04/laulusillakesed-var.jpg
END:VEVENT
END:VCALENDAR