BEGIN:VCALENDAR
VERSION:2.0
PRODID:-//Mere Kultuurikeskus - ECPv4.9.4//NONSGML v1.0//EN
CALSCALE:GREGORIAN
METHOD:PUBLISH
X-WR-CALNAME:Mere Kultuurikeskus
X-ORIGINAL-URL:https://merekeskus.ee
X-WR-CALDESC:Events for Mere Kultuurikeskus
BEGIN:VTIMEZONE
TZID:"Europe/Moscow"
BEGIN:STANDARD
TZOFFSETFROM:+0300
TZOFFSETTO:+0300
TZNAME:MSK
DTSTART:20260101T000000
END:STANDARD
END:VTIMEZONE
BEGIN:VEVENT
DTSTART;TZID="Europe/Moscow":20260519T190000
DTEND;TZID="Europe/Moscow":20260519T200000
DTSTAMP:20260419T123355
CREATED:20260417T132902Z
LAST-MODIFIED:20260417T132902Z
UID:45113-1779217200-1779220800@merekeskus.ee
SUMMARY:Slaavi kultuuri- ja kirjakeele päevad. Pidulik kontsert "Vene ooperi pärlid"
DESCRIPTION:\n\n\nVäike saal \n\n\n\nSündmus on pühendatud Slaavi kultuuri ja kirjakeele päevale. Kutsume teid osa saama vene muusikaklassika lätetest ja šedöövritest! Sel õhtul täitub kultuurikeskuse väikese saali lava naiskoori VIVA MUSICA (dirigent Sergei Mironov) ja stuudio tähendusrikaste solistide häälte harmooniaga. Kontserdi programm on slaavi vaimu elav kehastus – alates pidulikest rahvakommetest kuni sügavate dramaatiliste läbielamisteni. Teie ees avanevad Borodini kuulus kooripartii „Lenda tuule tiivul“\, Rimski-Korsakovi muinasjutulised viisid\, Dargomõžski särav huumor ning Tšaikovski ja Rubinsteini ooperite hingestatud aariad. Laske suurmeistrite muusikal saada osaks teie kevadesse!  Sissepääs tasuta.  Üritus toimub vene keeles. \n\n\n\n\n\n\n\n\n\n\n
URL:https://merekeskus.ee/event/slaavi-kultuuri-ja-kirjakeele-paevad-pidulik-kontsert-vene-ooperi-parlid/
CATEGORIES:Üritus
ATTACH;FMTTYPE=image/jpeg:https://merekeskus.ee/wp-content/uploads/2026/04/vene-ooperi-parlid-2.jpg
END:VEVENT
END:VCALENDAR