BEGIN:VCALENDAR
VERSION:2.0
PRODID:-//Mere Kultuurikeskus - ECPv4.9.4//NONSGML v1.0//EN
CALSCALE:GREGORIAN
METHOD:PUBLISH
X-WR-CALNAME:Mere Kultuurikeskus
X-ORIGINAL-URL:https://merekeskus.ee
X-WR-CALDESC:Events for Mere Kultuurikeskus
BEGIN:VTIMEZONE
TZID:"Europe/Moscow"
BEGIN:STANDARD
TZOFFSETFROM:+0300
TZOFFSETTO:+0300
TZNAME:MSK
DTSTART:20260101T000000
END:STANDARD
END:VTIMEZONE
BEGIN:VEVENT
DTSTART;TZID="Europe/Moscow":20260523T110000
DTEND;TZID="Europe/Moscow":20260523T120000
DTSTAMP:20260419T122936
CREATED:20260417T123226Z
LAST-MODIFIED:20260417T123226Z
UID:45067-1779534000-1779537600@merekeskus.ee
SUMMARY:Vene Nukuteater: Maasika vihm
DESCRIPTION:\n\n\nVene Nukuteater \n\n\n\n«Maasika vihm»I.Farbarževich muinasjutu järgiMõnikord selgub\, et ka kõige tavalisemast suvisest vihmast võib saada porgandi\, juustu\, vaarika\,kommi ja isegi mee vihm… Selleks\, et see juhtuks\, piisab\, kui leida taevast õige pilv\, selle juurdelennata ja elu eest raputada! Mida teha\, kui sul pole tiibu?.. Lenda vihmavarjuga! Millega veelvihma käes lennata…Lavastaj ja muusikaline kujundus: Vladimir BarsegjanStsenograafia: Olga Gabets\, Irina Marjapuu\, Roman MaksimukKunstnikud: Irina Barsegjan\, Irina MarjapuuNukud: Marina VotintsevaValguskunstnik: Vatslav DembinskiButafoor: Marina Vjatkina\, Olga GabetsLaval: Julia Zozulya\, Roman Maksimuk\, Karin LamsonEtenduse kestus: 35 minSoovitav vanus: 3+Esietendus: 07.05.2022.Lavastus on loodud Tallinna Kultuuri-ja Spordiameti toetusel.Etendus toimub vene keeles.\n\n\n\n\n\n\n\n\n\n\n
URL:https://merekeskus.ee/event/vene-nukuteater-maasika-vihm-4/
CATEGORIES:Üritus
ATTACH;FMTTYPE=image/jpeg:https://merekeskus.ee/wp-content/uploads/2026/04/1.-maasika-vihm-.jpeg
END:VEVENT
END:VCALENDAR