BEGIN:VCALENDAR
VERSION:2.0
PRODID:-//Mere Kultuurikeskus - ECPv4.9.4//NONSGML v1.0//EN
CALSCALE:GREGORIAN
METHOD:PUBLISH
X-WR-CALNAME:Mere Kultuurikeskus
X-ORIGINAL-URL:https://merekeskus.ee
X-WR-CALDESC:Events for Mere Kultuurikeskus
BEGIN:VTIMEZONE
TZID:"Europe/Moscow"
BEGIN:STANDARD
TZOFFSETFROM:+0300
TZOFFSETTO:+0300
TZNAME:MSK
DTSTART:20240101T000000
END:STANDARD
END:VTIMEZONE
BEGIN:VEVENT
DTSTART;TZID="Europe/Moscow":20240301T000000
DTEND;TZID="Europe/Moscow":20240515T235959
DTSTAMP:20260420T014736
CREATED:20240228T113750Z
LAST-MODIFIED:20240409T110556Z
UID:29578-1709251200-1715817599@merekeskus.ee
SUMMARY:Kunstniku Gennadi Eltsovi isikunäitus «Tee templisse»
DESCRIPTION:\n\n\n \n\n\n\n\n\n\n\n\n\nKunstniku Gennadi Eltsovi isikunäitus «Tee templisse»\n\n\n\nReedel\, 1. märtsil kell 16.00 Vene Kultuurikeskuse galeriis avaneb taaskord kunstnik Gennadi Eltsovi isikunäitus\, mis jällegi autori enese poolt\, nagu ka eelmine\,  on määratletud filosoofilise nimetusega –  “Tee templisse”.  \n\n\n\nGennadi Eltsov on kunstnik Kohtla-Järvelt\, kuid tema elukoht ei ole kuidagi piiritletud Ida-Virumaa regiooni raamistiku ja teemadega\, oma maalides on ta avardunud\, rääkides kirjanik Vassili Aksjonovi sõnadega\, kogu\n„inimeskonna“ maailmaruumis.  \n\n\n\nKunstniku huvisfäär hõlmab kaasaegse olemise üldiseid küsimusi ja\, paratamatult seejuures täitub mahukate religioonifilosoofiliste tähendustega\, mida ta teostab kunstiliste kujundite plastikas. Ja nüüd siis uus näitus\, uued püstitatud ülesanded\, uued süvenemised inimolemise saladustesse\, suhtumisse Jumalasse\, ajalukku ja Tõesse.  \n\n\n\nTulge Vene Kultuurikeskusesse näituse avamisele\, et ise näha ja veenduda selles. \n\n\n\nNäitus on avatud kuni 15. maini 2024. \n\n\n\nSISSEPÄÄS VABA. \n\n\n\nLugupeetud külastajad! \n\n\n\nVENE KULTUURIKESKUSE NÄITUSED ON AVATUD: \n\n\n\nE – R: 14.00 – 19.00L\, P: 11.00 – 19.00Näituseid saab külastada samuti ürituste toimumise ajal.\n\n\n\n\n\n\n\n\n
URL:https://merekeskus.ee/event/kunstniku-gennadi-eltsovi-isikunaitus-tee-templisse/
CATEGORIES:Näitus
ATTACH;FMTTYPE=image/jpeg:https://merekeskus.ee/wp-content/uploads/2024/02/ELCZOV-1.03-5.04.24.jpg
END:VEVENT
BEGIN:VEVENT
DTSTART;TZID="Europe/Moscow":20240305T000000
DTEND;TZID="Europe/Moscow":20240515T235959
DTSTAMP:20260420T014736
CREATED:20240228T105932Z
LAST-MODIFIED:20240409T110349Z
UID:29563-1709596800-1715817599@merekeskus.ee
SUMMARY:"Lilled" - laste kunstistuudiote ARTEC ja 5+5 kevadnäitus
DESCRIPTION:\n\n\n \n\n\n\n\n\n\n\n\n\n\n\n“Lilled” – laste kunstistuudiote “ARTEC” ja “5+5” kevadnäitus\n\n\n\nTeisipäeval\, 5. märtsil kell 16.00 Vene Kultuurikeskuse galeriis toimub laste kunstistuudiote 5+5 ja ARTEC tööde näituse avamine pühendatud 8. märtsile\, veel meie poolt mitteunustatud Naiste ja Kevade Pidustusele.  \n\n\n\nNäitus\, mis avardab selle pidustuse põhimõtte\, mil Emadele\, Vanaemadele ja Armastatutele kingitakse lilli. Lillede ja kimpude näitus\, kuid maalilises akvarelli- ja guašitehnikas. Siit ka lakooniline näituse enese nimetus – „Lilled“. Sellele kevadisele vernissage´ile esitasid noored kunstnikud oma natuuretüüdid ja kompositsioonilised ülesehitused kireva ja rõõmsameelse floristika teemal. \n\n\n\nNing loodame\, et lapsepõlve ohjeldamatu energia lööb õitsele galerii seintel\, täidab päikse ja armoomiga ruumi ja loob lillelõhnade\, präänikute ja kommidega pidustuse atmosfääri\, mis tekib näituse avamisel\, ja samuti tõmbab ligi vaatajaid kogu ekspositsiooni väljapaneku ajaks\, ja kestab näitus kuni 10. maini.  \n\n\n\nTulge meile Vene Kultuurikeskusesse ja tutvuge meie\, hetkel veel õpilasavastustega kujutava kunsti valdkonnas. Kuna ajaga kõik need pingutused kindlasti kasvavad üle tõsistesse ja professionaalsetesse oskustesse\, lapsed sirguvad\, saavutavad tulemused\, mis täielikult vastavad arusaamisele oma elueesmärgist. Ja kes teab\, võib-olla valivad kunstniku elutee. Igal juhul\, jäävad nad mäletama\, et oli olemas selline imeline\, täidetud inimliku soojusega koht – Vene Kultuurikeskus\, ja selles kunstistuudio\, kus oli võimalik õppida joonistama ja maailma\, ja peamine panema oma töid välja näitusele.  \n\n\n\nJa teist\, külastajad\, oleneb\, kas noored talendid tunnetavad oma märkimisväärsust või vastupidi ebavajalikust. \n\n\n\nNiisiis\, tulge\, osalege avamistel ja arutlustel\, toetage algajate loojate elutegevust ja tulevasi saavutusi ja nende pedagooge Patrisia Tõškevitši ja Valeri Lauri.  \n\n\n\nLisagem\, et sissepääs kõikidele näitustele on vaba\, mis meie ajastul on juba teatud eksklusiiv.  \n\n\n\nOotame kõiki huvilisi! \n\n\n\nSISSEPÄÄS VABA. \n\n\n\nNäitus on avatud kuni 15. maini 2024. \n\n\n\nVENE KULTUURIKESKUSE NÄITUSED ON AVATUD: \n\n\n\nE – R: 14.00 – 19.00L\, P: 11.00 – 19.00Näituseid saab külastada samuti ürituste toimumise ajal.\n\n\n\nSISSEPÄÄS VABA! \n\n\n\n\n\n\n
URL:https://merekeskus.ee/event/lilled-laste-kunstistuudiote-artec-ja-5-5-kevadnaitus/
CATEGORIES:Näitus
ATTACH;FMTTYPE=image/jpeg:https://merekeskus.ee/wp-content/uploads/2024/02/CZvety-ARTEC-2024.jpg
END:VEVENT
BEGIN:VEVENT
DTSTART;TZID="Europe/Moscow":20240306T000000
DTEND;TZID="Europe/Moscow":20240510T235959
DTSTAMP:20260420T014736
CREATED:20240228T114824Z
LAST-MODIFIED:20240409T110454Z
UID:29580-1709683200-1715385599@merekeskus.ee
SUMMARY:Vene Kunstnike Ühenduse Eestis ja Grupi "N" kevadnäitus "Lillenatüürmort"
DESCRIPTION:\n\n\n \n\n\n\n\n\n\n\n\n\n\n\nVene Kunstnike Ühenduse Eestis ja Grupi “N” kevadnäitus “Lillenatüürmort”\n\n\n\nKolmapäeval\, 6. märtsil\, kell 16.00 toimub Vene Kultuurikeskuse vasakpoolses galeriis 2. korrusel toimub Vene Kunstnike Ühenduse Eestis ja Grupi “N” kevadnäituse avamine. \n\n\n\nNäitus on avatud kuni 10. maini 2024. \n\n\n\nSISSEPÄÄS VABA! \n\n\n\nLugupeetud külastajad! \n\n\n\nVENE KULTUURIKESKUSE NÄITUSED ON AVATUD: \n\n\n\nE – R: 14.00 – 19.00L\, P: 11.00 – 19.00Näituseid saab külastada samuti ürituste toimumise ajal.\n\n\n\n\n\n\n
URL:https://merekeskus.ee/event/vene-kunstnike-uhenduse-eestis-ja-grupi-n-kevadnaitus-lillenatuurmort/
CATEGORIES:Näitus
ATTACH;FMTTYPE=image/jpeg:https://merekeskus.ee/wp-content/uploads/2024/02/ORHE-LILLENATÜRMORT-6.03-5.4.24.jpg
END:VEVENT
BEGIN:VEVENT
DTSTART;TZID="Europe/Moscow":20240403T000000
DTEND;TZID="Europe/Moscow":20240526T235959
DTSTAMP:20260420T014736
CREATED:20240408T143207Z
LAST-MODIFIED:20240429T121446Z
UID:30728-1712102400-1716767999@merekeskus.ee
SUMMARY:Kunstnik Svetlana Vetrova isikunäitus "Nukukunst"
DESCRIPTION:\n\n\n \n\n\n\n\n\n\n\n\n\nKunstnik Svetlana Vetrova isikunäitus “Nukukunst”\n\n\n\nOotame kõiki huvilisi! \n\n\n\nSISSEPÄÄS VABA. \n\n\n\nNäitus on avatud kuni 26. maini 2024. \n\n\n\nVENE KULTUURIKESKUSE NÄITUSED ON AVATUD: \n\n\n\nE – R: 14.00 – 19.00L\, P: 11.00 – 19.00Näituseid saab külastada samuti ürituste toimumise ajal.\n\n\n\n\n\n\n\n\n
URL:https://merekeskus.ee/event/kunstnik-svetlana-vetrova-isikunaitus-nukukunst/
CATEGORIES:Näitus
ATTACH;FMTTYPE=image/jpeg:https://merekeskus.ee/wp-content/uploads/2024/03/Svetlana-Vetrova_nukukunst_2.jpg
END:VEVENT
BEGIN:VEVENT
DTSTART;TZID="Europe/Moscow":20240409T000000
DTEND;TZID="Europe/Moscow":20240510T235959
DTSTAMP:20260420T014736
CREATED:20240408T142926Z
LAST-MODIFIED:20240408T143533Z
UID:30726-1712620800-1715385599@merekeskus.ee
SUMMARY:Kunstniku Diana Ark isikunäitus
DESCRIPTION:\n\n\n\n\n\n\n \n\n\n\n\n\nKunstniku Diana Ark isikunäitus\n\n\n\nTeisipäeval\, 9. aprillil kell 16.00 Vene Kultuurikeskuse galeriis avaneb kunstnik Diana Ark isikunäitus. \n\n\n\nOotame kõiki huvilisi! \n\n\n\nSISSEPÄÄS VABA. \n\n\n\nNäitus on avatud kuni 10. maini 2024. \n\n\n\nVENE KULTUURIKESKUSE NÄITUSED ON AVATUD: \n\n\n\nE – R: 14.00 – 19.00L\, P: 11.00 – 19.00Näituseid saab külastada samuti ürituste toimumise ajal.\n\n\n\n\n\n\n\n\n
URL:https://merekeskus.ee/event/kunstniku-diana-ark-isikunaitus/
CATEGORIES:Näitus
ATTACH;FMTTYPE=image/jpeg:https://merekeskus.ee/wp-content/uploads/2024/04/Diana-Ark.jpg
END:VEVENT
BEGIN:VEVENT
DTSTART;TZID="Europe/Moscow":20240419T180000
DTEND;TZID="Europe/Moscow":20240419T193000
DTSTAMP:20260420T014736
CREATED:20240404T091607Z
LAST-MODIFIED:20240404T091608Z
UID:30687-1713549600-1713555000@merekeskus.ee
SUMMARY:Rahvusvaheliseks kultuuripäevaks: Kunstisalong "Täiuslik ilu harmoonia meistrite kohta"
DESCRIPTION:\n\n\n \n\n\n\n\n\n\n\n\n\n\n\nRahvusvaheliseks kultuuripäevaks\n\n\n\nVene Kultuurikeskuse Väike saal\n\n\n\nReedel\,\n19. aprill 2024. а. algus kell 18.00 \n\n\n\nSISSEPÄÄS VABA! \n\n\n\nTallinna\nEsteetilise Kasvatuse Keskuse (MTÜ EKK\, 1989) \n\n\n\nKunstisalong\n“Täiuslik ilu harmoonia meistrite kohta”\n\n\n\n1935. aastal\, suure Leonardo Da Vinci 15. aprilli sünnipäeval\, sõlmiti Maa ajaloos esimene rahvusvaheline “kunsti- ja teadusasutuste ning ajaloomälestiste kaitse leping”. Sama dokument võeti aluseks UNESCO aktidele maailma kultuuripärandi kaitsmiseks\, sealhulgas rahvusvaheliste kultuuripäevade korraldamiseks igal aastal 15.aprillil. Seetõttu toovad 17. sajandil Prantsusmaal sündinud ja kunagi katkestamata salongikultuuri traditsioonid meie ellu endiselt kõrge loovuse\, ande ja huvitava suhtlusringi atmosfääri. Ja nad annavad meile ka võimaluse koos meenutada olulisi sündmusi ja tähtpäevi selle aasta aprillis. \n\n\n\nJa nagu alati\, osalevad eelseisva Kunstisalongi programmis meie andekad kaasaegsed-luuletajad\, lugejad ja maailma vokaalklassika teoste еsitajad. \n\n\n\nTatjana Tšervova\,\nkultuuriajaloo MA (sc) \n\n\n\nMTÜ EKK juhatuse\nesimees \n\n\n\n\n\n\n
URL:https://merekeskus.ee/event/rahvusvaheliseks-kultuuripaevaks-kunstisalong-taiuslik-ilu-harmoonia-meistrite-kohta/
CATEGORIES:Üritus,Мероприятие
ATTACH;FMTTYPE=image/jpeg:https://merekeskus.ee/wp-content/uploads/2024/04/Kunstisalong-19.04.24.jpg
END:VEVENT
BEGIN:VEVENT
DTSTART;TZID="Europe/Moscow":20240419T190000
DTEND;TZID="Europe/Moscow":20240419T203000
DTSTAMP:20260420T014736
CREATED:20230915T123101Z
LAST-MODIFIED:20230915T123102Z
UID:25780-1713553200-1713558600@merekeskus.ee
SUMMARY:Kaire Kreisi Kabaree!
DESCRIPTION:\n\n\n \n\n\n\n\n\n\n\n\n\n\n\nKAIRE KREISI KABAREE!\n\n\n\nMuusikaline vaatemäng kahes osas\n\n\n\nLavastaja-koreograaf: Kristin Murula \n\n\n\nKostüümikunstnikud: Grete Laus-Evestus ja Gerly Tinn \n\n\n\nKaire Vilgats on jõudnud elus teelahkmele. Tal tuleb hakata valima: kas valmistuda pisitasa väärikalt vananemiseks\, olla vagur ja viisakas või hüüda kogu ilmale\, et vanus on ainult number ja ahmida endasse muutuva maailma väljakutseid. \n\n\n\nTõeline dilemma! \n\n\n\nMida Kaire otsustab ja millise tee valib\, seda näete humoorikas muusikalises vaatemängus „Kaire Kreisi Kabaree!“ selle aasta oktoobris ja novembris üle Eesti. \n\n\n\nVõib-olla te saate isegi aidata Kairel õige tee valida! Kogu õhtu on laval üks ja ainus\, diivade diiva\, Kaire Vilgats! Teda abistavad noored lauljad — nõtke ja andekas Kaia-Liisa Kesler ning igast otsast imeline viikingipoiss Saaremaalt Sten-Erik Liiv. Etenduses teevad kaasa ka Showstoppersi vaimustavad tantsijad. \n\n\n\nLavastuses kõlavad tuntud estraadi- ja poplaulud Eestist ja välismaalt\, tantsime Tuljakut ja Kankaani ning litrite ja sulgede sära veikleb veel pikalt peale eesriide sulgumist. \n\n\n\nLisainfo \n\n\n\nFacebook: https://www.facebook.com/showstoppersEST \n\n\n\nKoduleht: www.showstoppers.ee \n\n\n\nEelmüügis on pileti hind 29 eurot. \n\n\n\nSooduspiletid õpilastele ja pensionäridele 25 eurot. \n\n\n\nEtenduse päeval on pileti hind 35 eurot. \n\n\n\nPiletid on müügil Piletilevis ja kohapeal. \n\n\n\nEtendus toimub eesti keeles. \n\n\n\n\n\n\n
URL:https://merekeskus.ee/event/kaire-kreisi-kabaree/
CATEGORIES:Üritus,Мероприятие
ATTACH;FMTTYPE=image/jpeg:https://merekeskus.ee/wp-content/uploads/2023/09/Kaire-Kabaree.jpg
END:VEVENT
END:VCALENDAR