BEGIN:VCALENDAR
VERSION:2.0
PRODID:-//Mere Kultuurikeskus - ECPv4.9.4//NONSGML v1.0//EN
CALSCALE:GREGORIAN
METHOD:PUBLISH
X-WR-CALNAME:Mere Kultuurikeskus
X-ORIGINAL-URL:https://merekeskus.ee
X-WR-CALDESC:Events for Mere Kultuurikeskus
BEGIN:VTIMEZONE
TZID:"Europe/Moscow"
BEGIN:STANDARD
TZOFFSETFROM:+0300
TZOFFSETTO:+0300
TZNAME:MSK
DTSTART:20240101T000000
END:STANDARD
END:VTIMEZONE
BEGIN:VEVENT
DTSTART;TZID="Europe/Moscow":20240403T000000
DTEND;TZID="Europe/Moscow":20240526T235959
DTSTAMP:20260422T115455
CREATED:20240408T143207Z
LAST-MODIFIED:20240429T121446Z
UID:30728-1712102400-1716767999@merekeskus.ee
SUMMARY:Kunstnik Svetlana Vetrova isikunäitus "Nukukunst"
DESCRIPTION:\n\n\n \n\n\n\n\n\n\n\n\n\nKunstnik Svetlana Vetrova isikunäitus “Nukukunst”\n\n\n\nOotame kõiki huvilisi! \n\n\n\nSISSEPÄÄS VABA. \n\n\n\nNäitus on avatud kuni 26. maini 2024. \n\n\n\nVENE KULTUURIKESKUSE NÄITUSED ON AVATUD: \n\n\n\nE – R: 14.00 – 19.00L\, P: 11.00 – 19.00Näituseid saab külastada samuti ürituste toimumise ajal.\n\n\n\n\n\n\n\n\n
URL:https://merekeskus.ee/event/kunstnik-svetlana-vetrova-isikunaitus-nukukunst/
CATEGORIES:Näitus
ATTACH;FMTTYPE=image/jpeg:https://merekeskus.ee/wp-content/uploads/2024/03/Svetlana-Vetrova_nukukunst_2.jpg
END:VEVENT
BEGIN:VEVENT
DTSTART;TZID="Europe/Moscow":20240515T000000
DTEND;TZID="Europe/Moscow":20240808T235959
DTSTAMP:20260422T115455
CREATED:20240429T111907Z
LAST-MODIFIED:20240514T123451Z
UID:31448-1715731200-1723161599@merekeskus.ee
SUMMARY:Tallinna päevale pühendatud Vene Kultuurikeskuse stuudio «ARTEC» ja stuudio «5+5» laste kunstinäitus
DESCRIPTION:\n\n\n \n\n\n\n\n\n\n\n\n\n\n\nTallinna päevale pühendatud Vene Kultuurikeskuse stuudio «ARTEC» ja stuudio «5+5» laste kunstinäitus\n\n\n\nKolmapäeval\, 15. mail kell 16.00 toimub Vene Kultuurikeskuses kunstistuudiote 5+5 ja Artec õpilaste traditsiooniline lastetööde näituse avamine. \n\n\n\nNäitusel\, pühendatud Tallinna päevale\, esitletakse erilaadseid etüüdilisi visandeid meie armastatud kodulinnast. \n\n\n\nLinnast\, mis ei väsi üllatamast\, kuna ta on kaunis\, unikaalne\, graafiline ja maailine ühtaegu ja omab oma erilist palet\, äratuntavat ja keerukalt hoomatavat läbi nende lihtsakoeliste vahendite\, mida kasutavad meie stuudiote andekad noored: jooned\, värvikad pintslitõmbed\, pintsli liikuvus\, joonituse suunitlus ja igipõlised värvikäsitluse küsimused. \n\n\n\nJa kõik need pidustuse\, “mis on alati sinuga”\, jäädvustamise katsetused\, täpsemalt meie linna erinevast perspektiivvõttest ja erinevast vaateväljast võib näha Vene Kultuurikeskuse parempoolses galeriis 1. korrusel kuni 8. augustini. \n\n\n\nNäitus on avatud kuni 8. augustini 2024. a. \n\n\n\nVENE KULTUURIKESKUSE NÄITUSED ON AVATUD: \n\n\n\nE – R: 14.00 – 19.00L\, P: 11.00 – 19.00Näituseid saab külastada samuti ürituste toimumise ajal.\n\n\n\nSISSEPÄÄS VABA. \n\n\n\n\n\n\n
URL:https://merekeskus.ee/event/tallinna-paevale-puhendatud-vene-kultuurikeskuse-stuudio-artec-ja-stuudio-5-5-laste-kunstinaitus/
CATEGORIES:Näitus
ATTACH;FMTTYPE=image/jpeg:https://merekeskus.ee/wp-content/uploads/2024/04/Den-Tallinna-detskaya-vystavka.jpg
END:VEVENT
BEGIN:VEVENT
DTSTART;TZID="Europe/Moscow":20240518T180000
DTEND;TZID="Europe/Moscow":20240526T190000
DTSTAMP:20260422T115455
CREATED:20240419T090308Z
LAST-MODIFIED:20240425T111633Z
UID:30957-1716055200-1716750000@merekeskus.ee
SUMMARY:Slaavi kirjakeele ja kultuuri päevade 2024 Vene Kultuurikeskuses kava
DESCRIPTION:\n\n\n \n\n\n\n\n\n\n\n\n\n\n\n18. maist algavad Vene Kultuurikeskuses traditsioonilised Slaavi kirjakeele ja kultuuri päevad\, mis toimuvad Tallinnas  juba rohkem\, kui 30 aastat järjest. Igal aastal\, 24. mail meenutame apostlite püha võrdväärseid vendi Kirilli ja Meffodit\, valgustajaid ja kirjakeele õpetajaid. Tänavu täitub slaavi kirjakeelel 1162 aastat. \n\n\n\nAeg on\nnäidanud\, et Slaavi kirjakeele ja kultuuri päevad omavad olulist tähtsust meie\npealinnale\, kuna ühendavad inimesi\, ilmekalt kinnitades\, et slaavlased Eestimaa\npinnal mäletavad ja austavad oma juuri\, ei unusta oma traditsioone. Kuni 26.\nmaini\, meie kalleid vaatajaid ja kuulajaid ootavad igapäevased erinevad\nüritused\, pühendatud sellele teemale ja iga huviline\, kahtlemata\, leiab omale\nhingelähedase – kas kontserdi\, või loengu\, või näituse\, või tervikuna\, kuna\nhuvitav\, oluline ja õpetlik saab olema kõik selles mahukas programmis. \n\n\n\nSissepääs kõikidele Slaavi kirjakeele ja kultuuri päevade üritustele on vaba.  \n\n\n\nÜritused toimuvad vene keeles. \n\n\n\nKorraldajad: Vene\nHaridus- ja Heategevusühingute Liit Eestis j Kultuuriühendus Kirill ja Meffodi\nkoostöös Vene Kultuurikeskusega. \n\n\n\nSlaavi kirjakeele ja kultuuri\npäevade 2024 Vene Kultuurikeskuses kava\n\n\n\nKONTSERDID: \n\n\n\n18. mail\, laupäev \n\n\n\n18.00 – Väike saal. Naiskoori VIVA MUSICA kontsert “Südame hääl”.   \n\n\n\nOsalejad: Naiskoor Viva Musica & dirigent Sergei Mironov ja muusikastuudio solistid. Kontsertmeister Ljudmilla Odes. \n\n\n\n19.mail\, pühapäev \n\n\n\n13.00 – Väike saal. “Ülestõusmispühade rõõm“. Koori kontsert.  \n\n\n\nOsalevad: Vene Kultuurikeskuse kooristuudio ALLEGRO lastekoor\, Kammerkoor ELEEGIA\, Segakoor RUSS\,  Naiskoor SLAVJANKA\, Naiskoor VIVA MUSICA. \n\n\n\n17.00 – Väike saal. “Hing laulab”. Olga Lundi nim. vokaalstuudio kontsert.  \n\n\n\nProgrammis on romansid ja populaarsed meloodiad. Osalevad: Tatjana Verman\, Svetlana Titova\, Olesja Titova\, Nina Kumlander\, Tatjana Alimova. Andranik Qechek (klaver). \n\n\n\n21.mail\, teisipäev \n\n\n\n19.00 – Väike saal. „Vene kirjakeel“. Kirjandusklubi Harmoonia muusikalis-poeetiline õhtu. \n\n\n\n22.mail\, kolmapäev \n\n\n\n18.00 – Väike saal. „Slaavlaste hääled“. Vene Filharmooniaühingu solistide klassikalise muusika kontsert.   \n\n\n\n23.mail\, neljapäev \n\n\n\n17.00  – Väike saal. „Armastuse meloodiad“. Vokaalstuudio EHO solistide kontsert.   \n\n\n\nEsinevad: Ljudmilla Judajeva (sopran)\, Galina Lehtsaar (sopran)\, Elviira Кalitseva (metsosopran)\, Valentina Ignatenko (metsosopran)\, Andrei German (bariton)\, Vera Svechina (luuletaja). Muusikajuht Ljudmila Kleiner. \n\n\n\n24.mail\, reede \n\n\n\n19.00 – Suur saal. „Slaavi kirjakeele ja kultuuri päev“. Suur pidulik kontsert.  \n\n\n\nOsalevad: Rahvamuusika ansambel Zlatõje gorõ\, Valgevene kultuuriühingu “Ljos” ansambel “Ljanok” (juhendaja Tatjana Nižnik)\, Vene Rahvalaulukoor Sudaruški (juhendaja Jelena Beljajeva)\, Vene Kultuurikeskuse tantsustuudio ENTRÉE (juhendaja Zhanna Nefedieva)\, Koreograafiaansambel Kolor (juhendaja Nina Gets)\, Tantsustuudio Graatsia (juhendaja Jelena Ahmedova)\, Rahvatantsuansambel NARVA  (juhendqajad Natalja Borovkova ja Svetlana Suhhova). \n\n\n\n25.mail\, laupäev \n\n\n\n12.00 – Suur saal. Laste Vokaalstuudio NUPUKESED – 25. Juubelikontsert \n\n\n\n15.00 – Väike saal. „Laulusillakesed. SUPRJADKI – 40“. Juubelikontsert.  \n\n\n\nOsalevad: muusikud ja esinejad Narvast Vladimir Tšerdakov ja Jekaterina Kuznetsova\, folklooriansambel «Suprjadki» (Narva)\, folklooriansambel «Bõlitsa» (Tallinn)\, tantsuansambel «Sirin» (Tallinn)\, Igor ja Ivan Jermakovid (Tallinn).  \n\n\n\n26.mail\,\npühapäev \n\n\n\n14.00 – Väike saal. Segakoori RUSS juubelikontsert. “30 aastat lauluga!” \n\n\n\n17.00 – Väike saal. «Kevadine tuju». Ansambli Slavutitš kontsert. \n\n\n\nLOENGUD: \n\n\n\n20.mail\, esmaspäev \n\n\n\n14.00 – Lektoorium. „Molbertiga ümber maailma“. Veebiloeng. \n\n\n\n17.00 – Lektoorium. „Eestimaa olukirjeldustest (XIX-XX sajandi vahetus): etnograafide Haruzinite pere“. Kultuuriloolase Tatjana Tšervova loeng.  \n\n\n\n21.mail\, teisipäev \n\n\n\n12.00 – Lektoorium. „Ikoonimaali kooli algallikad  ja traditsioonid“. Kunstnik Sergei Minini loeng.  \n\n\n\n14.30 – Lektoorium. “Komöödia kirsiaiast”. Ajaloolase Oleg Sidelnikovi loeng. \n\n\n\n23.mail\, neljapäev \n\n\n\n11.00 – Lektoorium. „Alphonse Mucha „Slaavi eepose“ sari“. Kunstnik Valeri Lauri loeng. \n\n\n\n14.00 – Väike saal. “Marina Vladi – venelasest prantslanna“. Ajakirjanik Ella Agranovskaja loeng. \n\n\n\nNÄITUSED: \n\n\n\n20.mail\, esmaspäev \n\n\n\n16.00 – «Minu lemmik muinasjutt». Stuudiote 5+5 ja Vene Kultuurikeskuse stuudio ARTEC laste näituse avamine. \n\n\n\n21.mail\, teisipäev \n\n\n\n16.00 – „Vaatle põhiolemust“. Vene Kunstnike Ühenduse Eestis ja Grupi N näituse avamine. \n\n\n\nSissepääs kõikidele Slaavi kirjakeele ja kultuuri päevade üritustele on vaba.  \n\n\n\nÜritused toimuvad vene keeles. \n\n\n\n\n\n\n
URL:https://merekeskus.ee/event/slaavi-kirjakeele-ja-kultuuri-paevade-2024-vene-kultuurikeskuses-kava/
CATEGORIES:Üritus,Мероприятие
ATTACH;FMTTYPE=image/jpeg:https://merekeskus.ee/wp-content/uploads/2024/04/DSP-Svodnaja-EST-2024.jpg
END:VEVENT
BEGIN:VEVENT
DTSTART;TZID="Europe/Moscow":20240520T000000
DTEND;TZID="Europe/Moscow":20240915T235959
DTSTAMP:20260422T115455
CREATED:20240426T100806Z
LAST-MODIFIED:20240912T113908Z
UID:31409-1716163200-1726444799@merekeskus.ee
SUMMARY:Slaavi kirjakeele ja kultuuri päevad 2024: «Minu lemmik muinasjutt» - stuudio 5+5 ja Vene Kultuurikeskuse stuudio ARTEC laste maalinäitus
DESCRIPTION:\n\n\n \n\n\n\n\n\n\n\n\n\n\n\nSlaavi kirjakeele ja kultuuri päevad 2024: «Minu lemmik muinasjutt» – stuudio 5+5 ja Vene Kultuurikeskuse stuudio ARTEC laste maalinäitus \n\n\n\n“Minu lemmik muinasjutt”\n\n\n\nEsmaspäeval\, 20. mail kell 16:00 Vene Kultuurikeskuse 1. korruse vasakpoolses galeriis\, pidustuse Slaavi kirjakeele ja kultuuri päevad – 2024 raames\, toimub laste kunstistuudio 5+5 ja Vene Kultuurikeskuse kunstistuudio ARTEC maalikunsti ja graafiliste tööde näituse avamine. \n\n\n\nJuba näituse nimetusest – “Minu lemmik muinasjutt” – on selge\, et kujundid on seotud süžeedega kirjandusest\, muinasjuttudest\, müütidest\, eepilistest rahvapärimustest\, ühesõnaga\, tekstidest\, varandusest\, millega on inimkond õnnistatud tänu kirjakeelele. \n\n\n\nJa kes milliseid muinasjutte loeb ja armastab ja kes milliseid illustratsioone joonistab – selles seisnebki intriig ja näituse olemus. Ja muidugi\, alati on ülimalt huvitav võrrelda enese arusaama juba ette teada tegevusest muinasjutus sellega\, kuidas see on lahendatud noore kunstniku poolt tema illustratiivses esitluses\, tema maalis. \n\n\n\nVene Kultuurikeskus kutsub kõiki huvilisi näitusele\, et toetada noori andeid\, nende vanemaid ja muidugi juhendajaid – Patritsia Tõškevitšit ja Valeri Lauri. \n\n\n\nSISSEPÄÄS VABA. \n\n\n\nNäitus on avatud kuni 15. septembrini 2024. \n\n\n\nLugupeetud külastajad! \n\n\n\nVENE KULTUURIKESKUSE NÄITUSED ON AVATUD: \n\n\n\nE – R: 14.00 – 19.00L\, P: 11.00 – 19.00Näituseid saab külastada samuti ürituste toimumise ajal\n\n\n\nOotame kõiki huvilisi! \n\n\n\n\n\n\n
URL:https://merekeskus.ee/event/minu-lemmik-muinasjutt-stuudio-5-5-ja-vene-kultuurikeskuse-stuudio-artec-laste-maalinaitus/
ATTACH;FMTTYPE=image/jpeg:https://merekeskus.ee/wp-content/uploads/2024/04/Moya-lyubimaya-skazka-vystavka.jpg
END:VEVENT
BEGIN:VEVENT
DTSTART;TZID="Europe/Moscow":20240521T000000
DTEND;TZID="Europe/Moscow":20240810T235959
DTSTAMP:20260422T115455
CREATED:20240426T102353Z
LAST-MODIFIED:20240809T111057Z
UID:31411-1716249600-1723334399@merekeskus.ee
SUMMARY:Slaavi kirjakeele ja kultuuri päevad 2024: «Vaatle põhiolemust» - Vene Kunstnike Ühenduse Eestis ja Grupi N näitus
DESCRIPTION:\n\n\n \n\n\n\n\n\n\n\n\n\n\n\nSlaavi kirjakeele ja kultuuri päevad 2024: «Vaatle põhiolemust» – Vene Kunstnike Ühenduse Eestis ja Grupi N näitus\n\n\n\n“Vaatle põhiolemust”\n\n\n\nTeisipäeval\, 21. mail kell 16:00 Vene Kultuurikeskuse 2. korruse galeriis\, pidustuse Slaavi kirjakeele ja kultuuri päevad – 2024 raames\, toimub Vene Kunstnike Ühenduse Eestis ja Grupi N traditsiooniline vernissage\, pühendatud slaavi kirjakeelele ja tema esiisadele – alusepanijatele aastal 863 – Kirillile ja Methodiusele\, kirjakeele õpetlastele. \n\n\n\nNäituse pealkiri on üsnagi proosaline\, kuid see-eest põhjendades kõike ja korraga – „VAATLE PÕHIOLEMUST“. \n\n\n\n(Aforismi „Vaatle põhiolemust“ autorlus kuulub tuntud lingvistile Aleksander Šiškovile (1754 – 1841) – keeleteadusliku raamatu («Славянорусский корнеслов»)\, välja antud 1817. aastal\, üks peatükkidest kannab nimetust “Vaatle põhiolemust: poeg kõneleb alati isa keeles”). \n\n\n\nJa see tähendab iga aine\, sündmuse\, nähtuse põhiolemuse\, täpsemalt ettemääratuse ja päriluse leidmist. \n\n\n\nAga kuidas seda teostada maalikunstis? Iga kunstnik\, mõistagi\, leiab vastuse iseseisvalt. Ja milline loendus alfast oomegani kujuneb kompositsiooni aluseks\, selline saabki olema kunstilise kujundi lahendus. \n\n\n\nKülastajad aga\, sõbrad ja kolleegid\, kes tulevad avamisele\, leiavad võimaluse vaadelda seda „põhiolemust“\, arutleda ja muljetada. \n\n\n\nSISSEPÄÄS VABA. \n\n\n\nNäitus on avatud kuni 10. augustini 2024. \n\n\n\nOlete oodatud Vene Kultuurikeskusesse\, veendumaks teesi õigsuses\, et kultuur ja kunst ei oma piire. \n\n\n\nOotame kõiki huvilisi! \n\n\n\nVENE KULTUURIKESKUSE NÄITUSED ON AVATUD: \n\n\n\nE – R: 14.00 – 19.00L\, P: 11.00 – 19.00Näituseid saab külastada samuti ürituste toimumise ajal.\n\n\n\n\n\n\n
URL:https://merekeskus.ee/event/vaatle-pohiolemust-vene-kunstnike-uhenduse-eestis-ja-grupi-n-naitus/
ATTACH;FMTTYPE=image/jpeg:https://merekeskus.ee/wp-content/uploads/2024/04/Zri-v-koren-ORHE.jpg
END:VEVENT
BEGIN:VEVENT
DTSTART;TZID="Europe/Moscow":20240525T110000
DTEND;TZID="Europe/Moscow":20240525T114000
DTSTAMP:20260422T115455
CREATED:20240411T114309Z
LAST-MODIFIED:20240411T114309Z
UID:30810-1716634800-1716637200@merekeskus.ee
SUMMARY:Vene Nukuteater: «Punakas kelm» (läti muinasjutu ainetel)
DESCRIPTION:\n\n\n \n\n\n\n\n\n\n\n\n\n\n\n«Punakas kelm» (läti muinasjutu ainetel)\n\n\n\nKes ta ikkagi on – punakas kelm? Kelle oma need koon ja kahune saba\, mis metsas vilskavad?Muidugi see on Rebasekutsikas\, kellele tundub\, et ta on kõige nutikas ja velbas terve maailmas. Talle nii meelbib petta… Aga\, kui tark Jänesepoeg\, unistaja Karupoeg ja meie teatri külastajad astuvad tema tempude vastu\, siis võidutseb õiglus. \n\n\n\nLavastaja: Vladimir BarsegjanKunstnik: Irina BarsegjanHelilooja: Vsevolod PozdejevLaulukirjutaja: Roman MaksimukLaval: Dmitri Kordas\, Roman Maksimuk\, Julia Zozulja\, Irina Marjapuu\n\n\n\nEtenduse kestus: 40 min \n\n\n\nVanusele: 2+ \n\n\n\nEsietendus: 18.05.2013 \n\n\n\nEtendus toimub vene keeles. \n\n\n\nÜrituse koduleht: http://www.venenukuteater.ee \n\n\n\n\n\n\n
URL:https://merekeskus.ee/event/vene-nukuteater-punakas-kelm-lati-muinasjutu-ainetel-5/
CATEGORIES:Üritus,Мероприятие
ATTACH;FMTTYPE=image/jpeg:https://merekeskus.ee/wp-content/uploads/2023/03/ryzhij-plutishka.jpg
END:VEVENT
BEGIN:VEVENT
DTSTART;TZID="Europe/Moscow":20240525T120000
DTEND;TZID="Europe/Moscow":20240525T133000
DTSTAMP:20260422T115455
CREATED:20240423T132630Z
LAST-MODIFIED:20240423T132630Z
UID:31095-1716638400-1716643800@merekeskus.ee
SUMMARY:Slaavi kirjakeele ja kultuuri päevad 2024: laste Vokaalstuudio NUPUKESED – 25. Juubelikontsert.
DESCRIPTION:\n\n\n \n\n\n\n\n\n\n\n\n\n\n\nSlaavi kirjakeele ja kultuuri päevad 2024: laste Vokaalstuudio NUPUKESED – 25. Juubelikontsert.\n\n\n\nVene Kultuurikeskuse Suur saal\, 25. mai\, kl 12.00. Sissepääs vaba. \n\n\n\n18. maist algasid Vene Kultuurikeskuses traditsioonilised Slaavi kirjakeele ja kultuuri päevad\, mis toimuvad Tallinnas  juba rohkem\, kui 30 aastat järjest. Igal aastal\, 24. mail\, meenutame apostlite püha võrdväärseid vendi Kirilli ja Meffodit\, valgustajaid ja kirjakeele õpetajaid. Tänavu täitub slaavi kirjakeelel 1162 aastat. \n\n\n\nSLAAVI KIRJAKEELE JA KULTUURI PÄEVADE 2024 KAVA \n\n\n\nAeg on näidanud\, et Slaavi kirjakeele ja kultuuri päevad omavad olulist tähtsust meie pealinnale\, kuna ühendavad inimesi\, ilmekalt kinnitades\, et slaavlased Eestimaa pinnal mäletavad ja austavad oma juuri\, ei unusta oma traditsioone. Kuni 26. maini\, meie kalleid vaatajaid ja kuulajaid ootavad igapäevased erinevad üritused\, pühendatud sellele teemale ja iga huviline\, kahtlemata\, leiab omale hingelähedase – kas kontserdi\, või loengu\, või näituse\, või tervikuna\, kuna huvitav\, oluline ja õpetlik saab olema kõik selles mahukas programmis. \n\n\n\nSISSEPÄÄS KÕIKIDELE SLAAVI KIRJAKEELE JA KULTUURI PÄEVADE ÜRITUSTELE ON VABA. \n\n\n\nÜritused toimuvad vene keeles. \n\n\n\nKorraldajad: Vene Haridus- ja Heategevusühingute Liit Eestis j Kultuuriühendus Kirill ja Meffodi koostöös Vene Kultuurikeskusega. \n\n\n\n\n\n\n
URL:https://merekeskus.ee/event/slaavi-kirjakeele-ja-kultuuri-paevad-2024-laste-vokaalstuudio-nupukesed-25-juubelikontsert/
CATEGORIES:Üritus,Мероприятие
ATTACH;FMTTYPE=image/jpeg:https://merekeskus.ee/wp-content/uploads/2024/04/Nupukesed-2024.jpg
END:VEVENT
BEGIN:VEVENT
DTSTART;TZID="Europe/Moscow":20240525T120000
DTEND;TZID="Europe/Moscow":20240525T133000
DTSTAMP:20260422T115455
CREATED:20240424T120825Z
LAST-MODIFIED:20240424T120825Z
UID:31306-1716638400-1716643800@merekeskus.ee
SUMMARY:Nataliia Koliasnikova fakultatiiv lastele "Vana klaveri muinaslood"
DESCRIPTION:\n\n\n \n\n\n\n\n\n\n\n\n\n\n
URL:https://merekeskus.ee/event/nataliia-koliasnikova-fakultatiiv-lastele-vana-klaveri-muinaslood-4/
CATEGORIES:Loeng,Лекция
END:VEVENT
BEGIN:VEVENT
DTSTART;TZID="Europe/Moscow":20240525T150000
DTEND;TZID="Europe/Moscow":20240525T163000
DTSTAMP:20260422T115455
CREATED:20240423T132937Z
LAST-MODIFIED:20240426T090357Z
UID:31097-1716649200-1716654600@merekeskus.ee
SUMMARY:Slaavi kirjakeele ja kultuuri päevad 2024: «Laulusillakesed. SUPRJADKI – 40». Juubelikontsert.
DESCRIPTION:\n\n\n\n\n\n\n \n\n\n\n\n\nSlaavi kirjakeele ja kultuuri päevad 2024: «Laulusillakesed. SUPRJADKI – 40». Juubelikontsert.\n\n\n\nOsalevad: muusikud ja esinejad Narvast Vladimir Tšerdakov ja Jekaterina Kuznetsova\, folklooriansambel «Suprjadki» (Narva)\, folklooriansambel «Bõlitsa» (Tallinn)\, tantsuansambel «Sirin» (Tallinn)\, Igor ja Ivan Jermakovid (Tallinn).  \n\n\n\nVene Kultuurikeskuse Väike saal\, 25. mai\, kl 15.00. Sissepääs vaba. \n\n\n\n18. maist algasid Vene Kultuurikeskuses traditsioonilised Slaavi kirjakeele ja kultuuri päevad\, mis toimuvad Tallinnas  juba rohkem\, kui 30 aastat järjest. Igal aastal\, 24. mail\, meenutame apostlite püha võrdväärseid vendi Kirilli ja Meffodit\, valgustajaid ja kirjakeele õpetajaid. Tänavu täitub slaavi kirjakeelel 1162 aastat. \n\n\n\nSLAAVI KIRJAKEELE JA KULTUURI PÄEVADE 2024 KAVA \n\n\n\nAeg on näidanud\, et Slaavi kirjakeele ja kultuuri päevad omavad olulist tähtsust meie pealinnale\, kuna ühendavad inimesi\, ilmekalt kinnitades\, et slaavlased Eestimaa pinnal mäletavad ja austavad oma juuri\, ei unusta oma traditsioone. Kuni 26. maini\, meie kalleid vaatajaid ja kuulajaid ootavad igapäevased erinevad üritused\, pühendatud sellele teemale ja iga huviline\, kahtlemata\, leiab omale hingelähedase – kas kontserdi\, või loengu\, või näituse\, või tervikuna\, kuna huvitav\, oluline ja õpetlik saab olema kõik selles mahukas programmis. \n\n\n\nSISSEPÄÄS KÕIKIDELE SLAAVI KIRJAKEELE JA KULTUURI PÄEVADE ÜRITUSTELE ON VABA. \n\n\n\nÜritused toimuvad vene keeles. \n\n\n\nKorraldajad: Vene Haridus- ja Heategevusühingute Liit Eestis j Kultuuriühendus Kirill ja Meffodi koostöös Vene Kultuurikeskusega. \n\n\n\n\n\n\n\n\n
URL:https://merekeskus.ee/event/slaavi-kirjakeele-ja-kultuuri-paevad-2024-laulusillakesed-suprjadki-40-juubelikontsert/
CATEGORIES:Üritus,Мероприятие
ATTACH;FMTTYPE=image/jpeg:https://merekeskus.ee/wp-content/uploads/2024/03/Suprjadki-2024-UUS.jpg
END:VEVENT
END:VCALENDAR