BEGIN:VCALENDAR
VERSION:2.0
PRODID:-//Mere Kultuurikeskus - ECPv4.9.4//NONSGML v1.0//EN
CALSCALE:GREGORIAN
METHOD:PUBLISH
X-WR-CALNAME:Mere Kultuurikeskus
X-ORIGINAL-URL:https://merekeskus.ee/ru/
X-WR-CALDESC:Events for Mere Kultuurikeskus
BEGIN:VTIMEZONE
TZID:"Europe/Moscow"
BEGIN:STANDARD
TZOFFSETFROM:+0300
TZOFFSETTO:+0300
TZNAME:MSK
DTSTART:20260101T000000
END:STANDARD
END:VTIMEZONE
BEGIN:VEVENT
DTSTART;TZID="Europe/Moscow":20260517T140000
DTEND;TZID="Europe/Moscow":20260517T160000
DTSTAMP:20260419T141747
CREATED:20260417T132632Z
LAST-MODIFIED:20260417T132632Z
UID:45111-1779026400-1779033600@merekeskus.ee
SUMMARY:Дни славянской культуры и письменности. Большой праздничный концерт
DESCRIPTION:\n\n\nБольшой зал \n\n\n\nБольшой праздничный концерт посвящён Дню славянской культуры и письменности. В концерте принимают участие известные русские\, белорусские и украинские коллективы города Таллина.Выступают: оркестр народных инструментов «Златые горы» под руководством Игоря Ермакова\, ансамбли «Крапива» и «Лянок»\, фольклорный ансамбль «Былица»\, хор русской народной песни «Сударушки»\, солистка Алла Попова\, хореографические студии «Визави»\, «Колор»\, «Алликас» и другие.Вход свободный. Мероприятие проходит на русском языке.\n\n\n\n\n\n\n\n\n\n\n
URL:https://merekeskus.ee/ru/event/dni-slavyanskoj-kultury-i-pismennosti-bolshoj-prazdnichnyj-konczert/
CATEGORIES:Мероприятие
ATTACH;FMTTYPE=image/jpeg:https://merekeskus.ee/wp-content/uploads/2026/04/suur-kontsert-1.jpg
END:VEVENT
END:VCALENDAR