BEGIN:VCALENDAR
VERSION:2.0
PRODID:-//Mere Kultuurikeskus - ECPv4.9.4//NONSGML v1.0//EN
CALSCALE:GREGORIAN
METHOD:PUBLISH
X-WR-CALNAME:Mere Kultuurikeskus
X-ORIGINAL-URL:https://merekeskus.ee/ru/
X-WR-CALDESC:Events for Mere Kultuurikeskus
BEGIN:VTIMEZONE
TZID:"Europe/Moscow"
BEGIN:STANDARD
TZOFFSETFROM:+0300
TZOFFSETTO:+0300
TZNAME:MSK
DTSTART:20260101T000000
END:STANDARD
END:VTIMEZONE
BEGIN:VEVENT
DTSTART;TZID="Europe/Moscow":20260517T170000
DTEND;TZID="Europe/Moscow":20260517T180000
DTSTAMP:20260419T141807
CREATED:20260417T133417Z
LAST-MODIFIED:20260417T133417Z
UID:45127-1779037200-1779040800@merekeskus.ee
SUMMARY:Дни славянской культуры и письменности. Концерт женского хора «Славянка» «Звучит песня жаворонка»
DESCRIPTION:\n\n\nМалый зал \n\n\n\nМероприятие посвящено Дню славянской культуры и письменности.Концерт женского хора «Славянка».В программе — классические хоровые произведения и народные песни.Выступает пианист Кирилл Лиссиенко.Концертмейстер — Ольга Куликова.Дирижёры — Сергей Миронов\, Гоар Овакимян.Вход свободный. Мероприятие проходит на русском языке.\n\n\n\n\n\n\n\n\n\n\n
URL:https://merekeskus.ee/ru/event/dni-slavyanskoj-kultury-i-pismennosti-konczert-zhenskogo-hora-slavyanka-zvuchit-pesnya-zhavoronka/
CATEGORIES:Мероприятие
ATTACH;FMTTYPE=image/jpeg:https://merekeskus.ee/wp-content/uploads/2026/04/lookene-slavjanka-2.jpg
END:VEVENT
END:VCALENDAR