BEGIN:VCALENDAR
VERSION:2.0
PRODID:-//Mere Kultuurikeskus - ECPv4.9.4//NONSGML v1.0//EN
CALSCALE:GREGORIAN
METHOD:PUBLISH
X-WR-CALNAME:Mere Kultuurikeskus
X-ORIGINAL-URL:https://merekeskus.ee/ru/
X-WR-CALDESC:Events for Mere Kultuurikeskus
BEGIN:VTIMEZONE
TZID:"Europe/Moscow"
BEGIN:STANDARD
TZOFFSETFROM:+0300
TZOFFSETTO:+0300
TZNAME:MSK
DTSTART:20260101T000000
END:STANDARD
END:VTIMEZONE
BEGIN:VEVENT
DTSTART;TZID="Europe/Moscow":20260519T190000
DTEND;TZID="Europe/Moscow":20260519T200000
DTSTAMP:20260419T141807
CREATED:20260417T133003Z
LAST-MODIFIED:20260417T133003Z
UID:45118-1779217200-1779220800@merekeskus.ee
SUMMARY:Дни славянской культуры и письменности. Торжественный концерт «Жемчужины русской оперы»
DESCRIPTION:\n\n\nVäike saal \n\n\n\nМероприятие посвящено Дню славянской культуры и письменности.Приглашаем вас прикоснуться к истокам и шедеврам русской музыкальной классики! В этот вечер сцена малого зала культурного центра наполнится гармонией голосов женского хора VIVA MUSICA (дирижёр Сергей Миронов) и солистов студии.Программа концерта — живое воплощение славянского духа: от торжественных народных традиций до глубоких драматических переживаний. Прозвучат знаменитый хор Бородина «Улетай на крыльях ветра»\, сказочные мелодии Римского-Корсакова\, яркий юмор Даргомыжского\, а также проникновенные арии из опер Чайковского и Рубинштейна.Позвольте музыке великих мастеров стать частью вашей весны!Вход свободный. Мероприятие проходит на русском языке.\n\n\n\n\n\n\n\n\n\n\n
URL:https://merekeskus.ee/ru/event/dni-slavyanskoj-kultury-i-pismennosti-torzhestvennyj-konczert-zhemchuzhiny-russkoj-opery/
CATEGORIES:Мероприятие
ATTACH;FMTTYPE=image/jpeg:https://merekeskus.ee/wp-content/uploads/2026/04/vene-ooperi-parlid-2.jpg
END:VEVENT
END:VCALENDAR