BEGIN:VCALENDAR
VERSION:2.0
PRODID:-//Mere Kultuurikeskus - ECPv4.9.4//NONSGML v1.0//EN
CALSCALE:GREGORIAN
METHOD:PUBLISH
X-WR-CALNAME:Mere Kultuurikeskus
X-ORIGINAL-URL:https://merekeskus.ee/ru/
X-WR-CALDESC:Events for Mere Kultuurikeskus
BEGIN:VTIMEZONE
TZID:"Europe/Moscow"
BEGIN:STANDARD
TZOFFSETFROM:+0300
TZOFFSETTO:+0300
TZNAME:MSK
DTSTART:20260101T000000
END:STANDARD
END:VTIMEZONE
BEGIN:VEVENT
DTSTART;TZID="Europe/Moscow":20260502T110000
DTEND;TZID="Europe/Moscow":20260502T120000
DTSTAMP:20260419T141644
CREATED:20260417T121145Z
LAST-MODIFIED:20260417T121146Z
UID:45035-1777719600-1777723200@merekeskus.ee
SUMMARY:Русский театр кукол: Прекрасное путешествие Кита и Улитки
DESCRIPTION:\n\n\nРусский театр кукол \n\n\n\n«Прекрасное путешествие Кита и Улитки»по мотивам сказки Джулии ДональдсонСамое лучше путешествие — это такое путешествие\, которое вы совершите не впоезде\, не на самолете и не в автомобиле\, а удобно устроившись на хвосте у Кита.Именно так и случилось с Улиткой\, которая рискнула отправиться в дальниестранствия на столь необычном средстве передвижения. Моря и океаны\, жаркиестраны\, чудесные рыбы\, птицы и даже водолазы… не перечесть того\, что привелосьим вместе увидеть и где пришлось побывать. «Ах!Ах!Ах!» — только и успевалапроизносить Улитка\, а могучий Кит мчал ее все дальше и дальше.Режиссер — постановщик: Владимир БарсегянХудожник — постановщик : Ирина БарсегянАссистент художника: Елена ИвановаАктеры: Ольга Леванова\, Юлия Зозуля\, Анна ГаранинаПродолжительность: 35мин.Возраст: 3+Премьера: 19.10.2024.\n\n\n\n\n\n\n\n\n\n\n
URL:https://merekeskus.ee/ru/event/russkij-teatr-kukol-prekrasnoe-puteshestvie-kita-i-ulitki-15/
CATEGORIES:Мероприятие
ATTACH;FMTTYPE=image/jpeg:https://merekeskus.ee/wp-content/uploads/2026/04/vaala-ja-teo-imeline-seiklus-05.jpg
END:VEVENT
END:VCALENDAR