BEGIN:VCALENDAR
VERSION:2.0
PRODID:-//Mere Kultuurikeskus - ECPv4.9.4//NONSGML v1.0//EN
CALSCALE:GREGORIAN
METHOD:PUBLISH
X-WR-CALNAME:Mere Kultuurikeskus
X-ORIGINAL-URL:https://merekeskus.ee/ru/
X-WR-CALDESC:Events for Mere Kultuurikeskus
BEGIN:VTIMEZONE
TZID:"Europe/Moscow"
BEGIN:STANDARD
TZOFFSETFROM:+0300
TZOFFSETTO:+0300
TZNAME:MSK
DTSTART:20260101T000000
END:STANDARD
END:VTIMEZONE
BEGIN:VEVENT
DTSTART;TZID="Europe/Moscow":20260523T110000
DTEND;TZID="Europe/Moscow":20260523T120000
DTSTAMP:20260419T142218
CREATED:20260417T123327Z
LAST-MODIFIED:20260417T123327Z
UID:45072-1779534000-1779537600@merekeskus.ee
SUMMARY:Русский театр кукол: Земляничный дождик
DESCRIPTION:\n\n\nРусский театр кукол \n\n\n\n«Земляничный дождик»по сказкам И.ФарбаржевичаОказывается даже самый обычный летний дождик может превратиться в морковный\, сырный\,малиновый\, конфетный и даже медовый…Для того чтобы это произошло\, достаточно найти нанебе соответствующую тучку\, подлететь к ней и как следует ее потрясти! Что делать\, если увас нет крыльев? …Летайте на зонтике! На чем же еще можно летать во время дождя…Режиссёр и музыкальное оформление: Владимир БарсегянСценография: Ольга Габец\, Ирина Марьяпуу\, Роман МаксимукХудожники: Ирина Барсегян\, Ирина МарьяпууКуклы: Марина ВотинцеваХудожник по свету: Вацлав ДембинскийБутафоры: Марина Вяткина\, Ольга ГабецАктёры: Карин Ламсон\, Роман Максимук\, Юлия ЗозуляПродолжительность: 35 мин.Возраст: 3+Премьера: 07.05.2022Спектакль создан при поддержке Департамента культуры и спорта г. Таллинна\n\n\n\n\n\n\n\n\n\n\n
URL:https://merekeskus.ee/ru/event/russkij-teatr-kukol-zemlyanichnyj-dozhdik-3/
CATEGORIES:Мероприятие
ATTACH;FMTTYPE=image/jpeg:https://merekeskus.ee/wp-content/uploads/2026/04/1.-maasika-vihm-.jpeg
END:VEVENT
END:VCALENDAR