BEGIN:VCALENDAR
VERSION:2.0
PRODID:-//Mere Kultuurikeskus - ECPv4.9.4//NONSGML v1.0//EN
CALSCALE:GREGORIAN
METHOD:PUBLISH
X-WR-CALNAME:Mere Kultuurikeskus
X-ORIGINAL-URL:https://merekeskus.ee/ru/
X-WR-CALDESC:Events for Mere Kultuurikeskus
BEGIN:VTIMEZONE
TZID:"Europe/Moscow"
BEGIN:STANDARD
TZOFFSETFROM:+0300
TZOFFSETTO:+0300
TZNAME:MSK
DTSTART:20240101T000000
END:STANDARD
END:VTIMEZONE
BEGIN:VEVENT
DTSTART;TZID="Europe/Moscow":20240301T000000
DTEND;TZID="Europe/Moscow":20240515T235959
DTSTAMP:20260421T102404
CREATED:20240228T113136Z
LAST-MODIFIED:20240409T110047Z
UID:29572-1709251200-1715817599@merekeskus.ee
SUMMARY:"Дорога к храму" - персональная выставка художника Геннадия Ельцова
DESCRIPTION:\n\n\n \n\n\n\n\n\n\n\n\n\n\n\n«Дорога к храму» — персональная выставка художника Геннадия Ельцова\n\n\n\nВ пятницу\, 1 марта\, в 16:00 на 2 этаже в правой галерее  Центра русской культуры вновь открывается персональная выставка художника Геннадия Ельцова\, которая самим автором опять\, как и предыдущая\, определена философским названием – «ДОРОГА К ХРАМУ». \n\n\n\nГеннадий Ельцов — художник из Кохтла-Ярве\, но его место проживания никак не ограничено рамками и темами Ида-Вирумааского региона\, в своих картинах он распространен\, говоря словами писателя Василия Аксёнова\, в пространстве всего «человейника».  \n\n\n\nСфера интересов художника охватывает основные вопросы современного бытия и неизбежно при этом наполняется ёмкими философско-религиозными смыслами\, которые он воплощает в пластике художественных\nобразов.  \n\n\n\nИ теперь вот новая выставка\, новые поставленные задачи\, новые проникновения в тайны человеческого бытия\, отношения к Богу\, к истории и к Истине. \n\n\n\nПриглашаем в Центр русской культуры на вернисаж\, чтобы самим всё увидеть и убедиться в\nэтом. \n\n\n\nВыставка открыта для посещения до 15 мая 2024 года. \n\n\n\nВХОД СВОБОДНЫЙ! \n\n\n\nУважаемые посетители! \n\n\n\nОбращаем ваше внимание на часы работы выставок в Центре русской культуры: \n\n\n\nПН — ПТ с 14 до 19 часовСБ\, ВС — с 11 до 19 часовТакже выставки открыты для посещения во время проведения мероприятий в ЦРК\n\n\n\n\n\n\n
URL:https://merekeskus.ee/ru/event/doroga-k-hramu-personalnaya-vystavka-hudozhnika-gennadiya-elczova/
CATEGORIES:Выставки
ATTACH;FMTTYPE=image/jpeg:https://merekeskus.ee/wp-content/uploads/2024/02/ELCZOV-1.03-5.04.24.jpg
END:VEVENT
BEGIN:VEVENT
DTSTART;TZID="Europe/Moscow":20240305T000000
DTEND;TZID="Europe/Moscow":20240515T235959
DTSTAMP:20260421T102404
CREATED:20240228T104924Z
LAST-MODIFIED:20240409T110144Z
UID:29557-1709596800-1715817599@merekeskus.ee
SUMMARY:"Цветы" - весенняя выставка детских художественных студий «ARTEC» и «5+5»
DESCRIPTION:\n\n\n \n\n\n\n\n\n\n\n\n\n\n\n«Цветы» — детская художественная выставка живописи детских художественных студий «ARTEC» и «5+5»\n\n\n\nВо вторник\, 5 марта\, в 16:00 в галерее Центра русской культуры открывается выставка работ детских художественных студий «5+5» и «Artec»\, посвященная 8 марта — празднику Женщин и Весны.  \n\n\n\nВыставка\, раскрывающая тему этого праздника\, когда мамам\, бабушкам и любимым дарятся цветы. Выставка этих самых цветов и букетов\, но в живописных техниках акварели и гуаши. Отсюда и лаконичное название самой выставки – «Цветы». \n\n\n\nНа этот весенний вернисаж юные художники предоставили свои натурные этюды и композиционные построения на тему пестрой и радостной флористики. И будем надеяться\, что энергия необузданного детства зацветет на стенах галереи\, наполнит солнцем и ароматом пространство и создаст атмосферу праздника с запахами цветов\, пряников и конфет\, что произойдет на открытие выставки\, а также будет привлекать зрителей во всё время работы экспозиции.   \n\n\n\nВыставка продлится до 15 мая. \n\n\n\nПриходите к нам в Центр русской культуры и знакомьтесь с нашими\, пока еще ученическими\, открытиями в области изобразительного искусства. Ведь со временем все эти усилия обязательно перерастут в серьезные и профессиональные навыки\, дети вырастут\, достигнут результатов\, вполне соответствующих пониманию своего предназначения в этой жизни. И кто знает\, может быть выберут путь художника. В любом случае\, они будут помнить\, что было такое прекрасное\, согретое человеческим теплом место — Центр русской культуры\, а в нём художественная студия\, где можно было научиться писать и рисовать\, и главное — выставляться со своими работами. \n\n\n\nИ от вас\, посетители\, зависит\, почувствует ли юный талант свою востребованность или\, наоборот\, ненужность. \n\n\n\nТак что\, приходите\, участвуйте в открытиях и обсуждениях\, поддерживайте жизнь и будущие успехи начинающих творцов и их педагогов — Патриции Тышкевич и Валерия Лаура. \n\n\n\nЖдем всех желающих!  \n\n\n\nВХОД СВОБОДНЫЙ!  \n\n\n\nУважаемые посетители! \n\n\n\nОбращаем ваше внимание на часы работы выставок в Центре русской культуры: \n\n\n\nПН — ПТ с 14 до 19 часовСБ\, ВС — с 11 до 19 часовТакже выставки открыты для посещения во время проведения мероприятий в ЦРК\n\n\n\n\n\n\n
URL:https://merekeskus.ee/ru/event/czvety-vesennyaya-vystavka-detskih-hudozhestvennyh-studij-artec-i-5-5/
CATEGORIES:Выставки
ATTACH;FMTTYPE=image/jpeg:https://merekeskus.ee/wp-content/uploads/2024/02/CZvety-ARTEC-2024.jpg
END:VEVENT
BEGIN:VEVENT
DTSTART;TZID="Europe/Moscow":20240306T000000
DTEND;TZID="Europe/Moscow":20240510T235959
DTSTAMP:20260421T102404
CREATED:20240228T121421Z
LAST-MODIFIED:20240409T110236Z
UID:29587-1709683200-1715385599@merekeskus.ee
SUMMARY:«Цветочный натюрморт» - весенняя художественная выставка Объединения русских художников в Эстонии и Группы «N»
DESCRIPTION:\n\n\n \n\n\n\n\n\n\n\n\n\n\n\n«Цветочный натюрморт» — весенняя художественная выставка Объединения русских художников в Эстонии и Группы «N»\n\n\n\nВ среду\, 6 марта\, в 16:00 на 2-ом этаже левой галереи Центра русской культуры открывается весенняя художественная выставка Объединения русских художников в Эстонии и группы «N» под названием «Цветочный натюрморт».  \n\n\n\nВстретимся на весеннем вернисаже!  \n\n\n\nВыставка открыта до 10 мая 2024 года. \n\n\n\nВХОД СВОБОДНЫЙ! \n\n\n\nУважаемые посетители! \n\n\n\nОбращаем ваше внимание на часы работы выставок в Центре русской культуры: \n\n\n\nПН — ПТ с 14 до 19 часовСБ\, ВС — с 11 до 19 часовТакже выставки открыты для посещения во время проведения мероприятий в ЦРК\n\n\n\n  \n\n\n\n\n\n\n
URL:https://merekeskus.ee/ru/event/czvetochnyj-natyurmort-vesennyaya-hudozhestvennaya-vystavka-obedineniya-russkih-hudozhnikov-v-estonii-i-gruppy-n/
CATEGORIES:Выставки
ATTACH;FMTTYPE=image/jpeg:https://merekeskus.ee/wp-content/uploads/2024/02/ORHE-LILLENATÜRMORT-6.03-5.4.24.jpg
END:VEVENT
BEGIN:VEVENT
DTSTART;TZID="Europe/Moscow":20240403T000000
DTEND;TZID="Europe/Moscow":20240526T235959
DTSTAMP:20260421T102404
CREATED:20240328T094806Z
LAST-MODIFIED:20240429T121338Z
UID:30555-1712102400-1716767999@merekeskus.ee
SUMMARY:Выставка авторских кукол Светланы Ветровой "Кукольное искусство"
DESCRIPTION:\n\n\n \n\n\n\n\n\n\n\n\n\nСветлана Ветрова — член Международного общества авторской куклы (МОАК)\, член Объединения Русских художников Эстонии — приглашает на открытие выставки авторских кукол. \n\n\n\nОткрытие выставки состоится 3 апреля\, в 16:00 на втором этаже Центра русской культуры (стеклянная витрина). \n\n\n\nТехника: куклы из самоотвердевающих и запекаемых пластиков\, папье-маше\, керамики\, текстиля\, лепка\, парики\, обувь\, аксессуары и одежда выполнены вручную.  \n\n\n\nВсе работы в единственном экземпляре. \n\n\n\nЗарегистрирована в «Большой энциклопедии Авторских художественных кукол мира» автора Б. Голдовского как художник-кукольник в Эстонии.  \n\n\n\nСоздаёт авторскую художественную куклу с 1998 года. За это время с 2000 года провела более 60 персональных выставок в Эстонии и за рубежом.  \n\n\n\nЯвляется победителем и лауреатом различных международных кукольных выставок\, конкурсов и фестивалей.   \n\n\n\nИмеет множество дипломов и наград\, среди них особенные : \n\n\n\nнаграда за вклад и продвижение кукольного искусства в Эстонии от Эстонского Дома куколнеоднократно отмечена благодарностями от города и Кохтла-Ярвеского Культурного Центранаграда « Идеальный творец 2016» от Международного союза парапсихологов  Эстонииза творческие достижения Eesti Kultuurkapitaal Эстония\n\n\n\nС 2013 года — руководитель студии авторской куклы в Кохтла-Ярвеском культурном центре\, г. Кохтла-Ярве\, Эстония  \n\n\n\nДата и время мероприятия : 3 апреля\, 16:00 \n\n\n\nМесто: второй этаж Центра русской культуры\, стеклянная витрина \n\n\n\nВыставка открыта для посещения до 26 мая 2024 года. \n\n\n\nВХОД СВОБОДНЫЙ! \n\n\n\nУважаемые посетители! \n\n\n\nОбращаем ваше внимание на часы работы выставок в Центре русской культуры: \n\n\n\nПН — ПТ с 14 до 19 часовСБ\, ВС — с 11 до 19 часовТакже выставки открыты для посещения во время проведения мероприятий в ЦРК\n\n\n\nВХОД СВОБОДНЫЙ. \n\n\n\n \n\n\n\n\n\n\n\n\n
URL:https://merekeskus.ee/ru/event/vystavka-avtorskih-kukol-svetlany-vetrovoj-kukolnoe-iskusstvo/
CATEGORIES:Выставки
ATTACH;FMTTYPE=image/jpeg:https://merekeskus.ee/wp-content/uploads/2024/03/Svetlana-Vetrova_nukukunst_2.jpg
END:VEVENT
BEGIN:VEVENT
DTSTART;TZID="Europe/Moscow":20240409T000000
DTEND;TZID="Europe/Moscow":20240510T235959
DTSTAMP:20260421T102404
CREATED:20240408T142111Z
LAST-MODIFIED:20240408T143818Z
UID:30719-1712620800-1715385599@merekeskus.ee
SUMMARY:Персональная выставка художника Дианы Арк
DESCRIPTION:\n\n\n\n\n\n\n \n\n\n\n\n\nВо вторник\, 9 апреля\, в 16:00 в правой галерее Центра русской культуры открывается персональная выставка художника Дианы Арк.\n\n\n\nКартины\, представленные на этой выставке\, в значительной мере относятся к разряду декоративных воплощений раздумий художника по поводу структурности окружающего нас мира\, строения всего мироздания\, увеличивающихся и стремительно уносящихся прочь скоростей\, а также и самого времени\, которое представлено и линейно\, и кругообразно одновременно. \n\n\n\nВесь этот хаос макрокосмоса\, кружащийся вокруг личности человека\, вдруг остановленный картинной плоскостью\, движением кисти\, воображением художника и сложноопределяемой таинственностью колорита\, приобретает характер почти психоделический\, и зритель\, имеющий глаза\, обнаруживает некую связь картин\, включенных в вернисаж со своими сновидениями последнего времени\, со своими попытками пробиться в иное\, запредельное пространство\, где отсутствует культовая связь с формальной логикой и где царят полная свобода и раскрепощение\, и некий Пир Духа\, ведь недаром в имени художника Дианы Арк заключено сходство с Жанной Д’Арк (Jeanne d’Arc) и Ноевым Ковчегом (Arca Noe). \n\n\n\nПриходите на выставку в Центр русской культуры и убедитесь\, что здесь вас всегда ждут и готовятся к встрече самыми оригинальными и завораживающими воображение способами. \n\n\n\nВыставка продлится до 10 мая. \n\n\n\nЖдем всех желающих! \n\n\n\nВХОД СВОБОДНЫЙ! \n\n\n\nУважаемые посетители! \n\n\n\nОбращаем ваше внимание на часы работы выставок в Центре русской культуры: \n\n\n\nПН — ПТ с 14 до 19 часовСБ\, ВС — с 11 до 19 часовТакже выставки открыты для посещения во время проведения мероприятий в ЦРК\n\n\n\n\n\n\n\n\n
URL:https://merekeskus.ee/ru/event/personalnaya-vystavka-hudozhnika-diany-ark/
CATEGORIES:Выставки
ATTACH;FMTTYPE=image/jpeg:https://merekeskus.ee/wp-content/uploads/2024/04/Diana-Ark.jpg
END:VEVENT
BEGIN:VEVENT
DTSTART;TZID="Europe/Moscow":20240508T120000
DTEND;TZID="Europe/Moscow":20240508T144500
DTSTAMP:20260421T102404
CREATED:20240315T124442Z
LAST-MODIFIED:20240508T093156Z
UID:30119-1715169600-1715179500@merekeskus.ee
SUMMARY:Koguperemuusikal «Prints ja kerjus»
DESCRIPTION:\n\n\n \n\n\n\n\n\n\n\n\n\nKaari Sillamaa Muusikateater esitleb: koguperemuusikal «Prints ja kerjus»\n\n\n\n„Prints ja kerjus“ on Ameerika kirjaniku Mark Twaini ajalooline romaan\, mille sündmused toimuvad 1547 aastal Inglismaal. \n\n\n\nLondoni vaeste linnaosas elab kerjuspoiss Tom Canty\, kes vaatamata joodikust isa türanniale on saanud väheke haridust ja raamatuid lugedes hakanud unistama kohtumisest päris printsiga. \n\n\n\nKord palee aia lähedal kõndides ristuvadki Tomi ja prints Edward Tudori teed.Prints kutsub kerjuspoisi lossi\, nad saavad tuttavaks ja avastavad\, et on välimuselt sarnased ja veel\, et nad on sündinud samal päeval. Edward ja Tom vahetavad riided ja sealt saab alguse seiklus mõlema poisi jaoks. \n\n\n\nSeega: \n\n\n\nMitte midagi uut siin päikese all. Rohi tundub teisel kaldal alati haljam. Kas see ikka on nii? Tundmatus kohas vette kukkumine õpetab nii mõnedki ujuma. \n\n\n\nJa 16. sajandi Inglismaa õukond on ühele kerjuspoisile hullem tormine ookean\, ning prahihoovi kamp printsile paras veekeeris. \n\n\n\nKas Tom ja Edward saavad hakkama? Seda saab teada juba etendusel! \n\n\n\nVene Kultuurikeskuses 6.\, 7. ja 8. mail kell 12.00 ja kell 19.00Laval Kaari Sillamaa Muusikateatri õpilased\, õpetajad\, vilistlased ja külalised. \n\n\n\nLibreto: Mark OjaLavastaja ja võitluskoreograaf: Tanel Saar (VAT-Teater)Helilooja ja muusikajuht: Janika SillamaaKoreograaf: Johanna-Elise KabelKunstnik: Pille KoseKülalisnäitlejad: Mihkel Tikerpalu ja Toomas KrallVanusepiirang: Pilet hakkab kehtima alates 5. eluaastast.Soovituslik vanus alates 7. eluaastast.\n\n\n\nKorraldaja: COLOMBINA MTÜRegistrikood: 80199866E-post: kaari.sillamaa@gmail.com \n\n\n\n\n\n\n\n\n
URL:https://merekeskus.ee/ru/event/koguperemuusikal-prints-ja-kerjus-6/
CATEGORIES:Мероприятие
ATTACH;FMTTYPE=image/jpeg:https://merekeskus.ee/wp-content/uploads/2024/03/Prints-ja-Kerjus.jpg
END:VEVENT
BEGIN:VEVENT
DTSTART;TZID="Europe/Moscow":20240508T140000
DTEND;TZID="Europe/Moscow":20240508T153000
DTSTAMP:20260421T102404
CREATED:20240424T094616Z
LAST-MODIFIED:20240424T094617Z
UID:31164-1715176800-1715182200@merekeskus.ee
SUMMARY:Лекция концертного исполнителя (флейта)\, педагога Наталии Колясниковой "Сергей Рахманинов"
DESCRIPTION:\n\n\n \n\n\n\n\n\n\n\n\n\n\n
URL:https://merekeskus.ee/ru/event/lekcziya-konczertnogo-ispolnitelya-flejta-pedagoga-natalii-kolyasnikovoj-sergej-rahmaninov/
CATEGORIES:Лекция
END:VEVENT
BEGIN:VEVENT
DTSTART;TZID="Europe/Moscow":20240508T190000
DTEND;TZID="Europe/Moscow":20240508T214500
DTSTAMP:20260421T102404
CREATED:20240315T124243Z
LAST-MODIFIED:20240508T093223Z
UID:30117-1715194800-1715204700@merekeskus.ee
SUMMARY:Koguperemuusikal «Prints ja kerjus»
DESCRIPTION:\n\n\n \n\n\n\n\n\n\n\n\n\nKaari Sillamaa Muusikateater esitleb: koguperemuusikal «Prints ja kerjus»\n\n\n\n„Prints ja kerjus“ on Ameerika kirjaniku Mark Twaini ajalooline romaan\, mille sündmused toimuvad 1547 aastal Inglismaal. \n\n\n\nLondoni vaeste linnaosas elab kerjuspoiss Tom Canty\, kes vaatamata joodikust isa türanniale on saanud väheke haridust ja raamatuid lugedes hakanud unistama kohtumisest päris printsiga. \n\n\n\nKord palee aia lähedal kõndides ristuvadki Tomi ja prints Edward Tudori teed.Prints kutsub kerjuspoisi lossi\, nad saavad tuttavaks ja avastavad\, et on välimuselt sarnased ja veel\, et nad on sündinud samal päeval. Edward ja Tom vahetavad riided ja sealt saab alguse seiklus mõlema poisi jaoks. \n\n\n\nSeega: \n\n\n\nMitte midagi uut siin päikese all. Rohi tundub teisel kaldal alati haljam. Kas see ikka on nii? Tundmatus kohas vette kukkumine õpetab nii mõnedki ujuma. \n\n\n\nJa 16. sajandi Inglismaa õukond on ühele kerjuspoisile hullem tormine ookean\, ning prahihoovi kamp printsile paras veekeeris. \n\n\n\nKas Tom ja Edward saavad hakkama? Seda saab teada juba etendusel! \n\n\n\nVene Kultuurikeskuses 6.\, 7. ja 8. mail kell 12.00 ja kell 19.00Laval Kaari Sillamaa Muusikateatri õpilased\, õpetajad\, vilistlased ja külalised. \n\n\n\nLibreto: Mark OjaLavastaja ja võitluskoreograaf: Tanel Saar (VAT-Teater)Helilooja ja muusikajuht: Janika SillamaaKoreograaf: Johanna-Elise KabelKunstnik: Pille KoseKülalisnäitlejad: Mihkel Tikerpalu ja Toomas KrallVanusepiirang: Pilet hakkab kehtima alates 5. eluaastast.Soovituslik vanus alates 7. eluaastast.\n\n\n\nKorraldaja: COLOMBINA MTÜRegistrikood: 80199866E-post: kaari.sillamaa@gmail.com \n\n\n\n\n\n\n\n\n
URL:https://merekeskus.ee/ru/event/koguperemuusikal-prints-ja-kerjus-5/
CATEGORIES:Мероприятие
ATTACH;FMTTYPE=image/jpeg:https://merekeskus.ee/wp-content/uploads/2024/03/Prints-ja-Kerjus.jpg
END:VEVENT
END:VCALENDAR