BEGIN:VCALENDAR
VERSION:2.0
PRODID:-//Mere Kultuurikeskus - ECPv4.9.4//NONSGML v1.0//EN
CALSCALE:GREGORIAN
METHOD:PUBLISH
X-WR-CALNAME:Mere Kultuurikeskus
X-ORIGINAL-URL:https://merekeskus.ee/ru/
X-WR-CALDESC:Events for Mere Kultuurikeskus
BEGIN:VTIMEZONE
TZID:"Europe/Moscow"
BEGIN:STANDARD
TZOFFSETFROM:+0300
TZOFFSETTO:+0300
TZNAME:MSK
DTSTART:20240101T000000
END:STANDARD
END:VTIMEZONE
BEGIN:VEVENT
DTSTART;TZID="Europe/Moscow":20240301T000000
DTEND;TZID="Europe/Moscow":20240515T235959
DTSTAMP:20260421T220008
CREATED:20240228T113136Z
LAST-MODIFIED:20240409T110047Z
UID:29572-1709251200-1715817599@merekeskus.ee
SUMMARY:"Дорога к храму" - персональная выставка художника Геннадия Ельцова
DESCRIPTION:\n\n\n \n\n\n\n\n\n\n\n\n\n\n\n«Дорога к храму» — персональная выставка художника Геннадия Ельцова\n\n\n\nВ пятницу\, 1 марта\, в 16:00 на 2 этаже в правой галерее  Центра русской культуры вновь открывается персональная выставка художника Геннадия Ельцова\, которая самим автором опять\, как и предыдущая\, определена философским названием – «ДОРОГА К ХРАМУ». \n\n\n\nГеннадий Ельцов — художник из Кохтла-Ярве\, но его место проживания никак не ограничено рамками и темами Ида-Вирумааского региона\, в своих картинах он распространен\, говоря словами писателя Василия Аксёнова\, в пространстве всего «человейника».  \n\n\n\nСфера интересов художника охватывает основные вопросы современного бытия и неизбежно при этом наполняется ёмкими философско-религиозными смыслами\, которые он воплощает в пластике художественных\nобразов.  \n\n\n\nИ теперь вот новая выставка\, новые поставленные задачи\, новые проникновения в тайны человеческого бытия\, отношения к Богу\, к истории и к Истине. \n\n\n\nПриглашаем в Центр русской культуры на вернисаж\, чтобы самим всё увидеть и убедиться в\nэтом. \n\n\n\nВыставка открыта для посещения до 15 мая 2024 года. \n\n\n\nВХОД СВОБОДНЫЙ! \n\n\n\nУважаемые посетители! \n\n\n\nОбращаем ваше внимание на часы работы выставок в Центре русской культуры: \n\n\n\nПН — ПТ с 14 до 19 часовСБ\, ВС — с 11 до 19 часовТакже выставки открыты для посещения во время проведения мероприятий в ЦРК\n\n\n\n\n\n\n
URL:https://merekeskus.ee/ru/event/doroga-k-hramu-personalnaya-vystavka-hudozhnika-gennadiya-elczova/
CATEGORIES:Выставки
ATTACH;FMTTYPE=image/jpeg:https://merekeskus.ee/wp-content/uploads/2024/02/ELCZOV-1.03-5.04.24.jpg
END:VEVENT
BEGIN:VEVENT
DTSTART;TZID="Europe/Moscow":20240305T000000
DTEND;TZID="Europe/Moscow":20240515T235959
DTSTAMP:20260421T220008
CREATED:20240228T104924Z
LAST-MODIFIED:20240409T110144Z
UID:29557-1709596800-1715817599@merekeskus.ee
SUMMARY:"Цветы" - весенняя выставка детских художественных студий «ARTEC» и «5+5»
DESCRIPTION:\n\n\n \n\n\n\n\n\n\n\n\n\n\n\n«Цветы» — детская художественная выставка живописи детских художественных студий «ARTEC» и «5+5»\n\n\n\nВо вторник\, 5 марта\, в 16:00 в галерее Центра русской культуры открывается выставка работ детских художественных студий «5+5» и «Artec»\, посвященная 8 марта — празднику Женщин и Весны.  \n\n\n\nВыставка\, раскрывающая тему этого праздника\, когда мамам\, бабушкам и любимым дарятся цветы. Выставка этих самых цветов и букетов\, но в живописных техниках акварели и гуаши. Отсюда и лаконичное название самой выставки – «Цветы». \n\n\n\nНа этот весенний вернисаж юные художники предоставили свои натурные этюды и композиционные построения на тему пестрой и радостной флористики. И будем надеяться\, что энергия необузданного детства зацветет на стенах галереи\, наполнит солнцем и ароматом пространство и создаст атмосферу праздника с запахами цветов\, пряников и конфет\, что произойдет на открытие выставки\, а также будет привлекать зрителей во всё время работы экспозиции.   \n\n\n\nВыставка продлится до 15 мая. \n\n\n\nПриходите к нам в Центр русской культуры и знакомьтесь с нашими\, пока еще ученическими\, открытиями в области изобразительного искусства. Ведь со временем все эти усилия обязательно перерастут в серьезные и профессиональные навыки\, дети вырастут\, достигнут результатов\, вполне соответствующих пониманию своего предназначения в этой жизни. И кто знает\, может быть выберут путь художника. В любом случае\, они будут помнить\, что было такое прекрасное\, согретое человеческим теплом место — Центр русской культуры\, а в нём художественная студия\, где можно было научиться писать и рисовать\, и главное — выставляться со своими работами. \n\n\n\nИ от вас\, посетители\, зависит\, почувствует ли юный талант свою востребованность или\, наоборот\, ненужность. \n\n\n\nТак что\, приходите\, участвуйте в открытиях и обсуждениях\, поддерживайте жизнь и будущие успехи начинающих творцов и их педагогов — Патриции Тышкевич и Валерия Лаура. \n\n\n\nЖдем всех желающих!  \n\n\n\nВХОД СВОБОДНЫЙ!  \n\n\n\nУважаемые посетители! \n\n\n\nОбращаем ваше внимание на часы работы выставок в Центре русской культуры: \n\n\n\nПН — ПТ с 14 до 19 часовСБ\, ВС — с 11 до 19 часовТакже выставки открыты для посещения во время проведения мероприятий в ЦРК\n\n\n\n\n\n\n
URL:https://merekeskus.ee/ru/event/czvety-vesennyaya-vystavka-detskih-hudozhestvennyh-studij-artec-i-5-5/
CATEGORIES:Выставки
ATTACH;FMTTYPE=image/jpeg:https://merekeskus.ee/wp-content/uploads/2024/02/CZvety-ARTEC-2024.jpg
END:VEVENT
BEGIN:VEVENT
DTSTART;TZID="Europe/Moscow":20240403T000000
DTEND;TZID="Europe/Moscow":20240526T235959
DTSTAMP:20260421T220008
CREATED:20240328T094806Z
LAST-MODIFIED:20240429T121338Z
UID:30555-1712102400-1716767999@merekeskus.ee
SUMMARY:Выставка авторских кукол Светланы Ветровой "Кукольное искусство"
DESCRIPTION:\n\n\n \n\n\n\n\n\n\n\n\n\nСветлана Ветрова — член Международного общества авторской куклы (МОАК)\, член Объединения Русских художников Эстонии — приглашает на открытие выставки авторских кукол. \n\n\n\nОткрытие выставки состоится 3 апреля\, в 16:00 на втором этаже Центра русской культуры (стеклянная витрина). \n\n\n\nТехника: куклы из самоотвердевающих и запекаемых пластиков\, папье-маше\, керамики\, текстиля\, лепка\, парики\, обувь\, аксессуары и одежда выполнены вручную.  \n\n\n\nВсе работы в единственном экземпляре. \n\n\n\nЗарегистрирована в «Большой энциклопедии Авторских художественных кукол мира» автора Б. Голдовского как художник-кукольник в Эстонии.  \n\n\n\nСоздаёт авторскую художественную куклу с 1998 года. За это время с 2000 года провела более 60 персональных выставок в Эстонии и за рубежом.  \n\n\n\nЯвляется победителем и лауреатом различных международных кукольных выставок\, конкурсов и фестивалей.   \n\n\n\nИмеет множество дипломов и наград\, среди них особенные : \n\n\n\nнаграда за вклад и продвижение кукольного искусства в Эстонии от Эстонского Дома куколнеоднократно отмечена благодарностями от города и Кохтла-Ярвеского Культурного Центранаграда « Идеальный творец 2016» от Международного союза парапсихологов  Эстонииза творческие достижения Eesti Kultuurkapitaal Эстония\n\n\n\nС 2013 года — руководитель студии авторской куклы в Кохтла-Ярвеском культурном центре\, г. Кохтла-Ярве\, Эстония  \n\n\n\nДата и время мероприятия : 3 апреля\, 16:00 \n\n\n\nМесто: второй этаж Центра русской культуры\, стеклянная витрина \n\n\n\nВыставка открыта для посещения до 26 мая 2024 года. \n\n\n\nВХОД СВОБОДНЫЙ! \n\n\n\nУважаемые посетители! \n\n\n\nОбращаем ваше внимание на часы работы выставок в Центре русской культуры: \n\n\n\nПН — ПТ с 14 до 19 часовСБ\, ВС — с 11 до 19 часовТакже выставки открыты для посещения во время проведения мероприятий в ЦРК\n\n\n\nВХОД СВОБОДНЫЙ. \n\n\n\n \n\n\n\n\n\n\n\n\n
URL:https://merekeskus.ee/ru/event/vystavka-avtorskih-kukol-svetlany-vetrovoj-kukolnoe-iskusstvo/
CATEGORIES:Выставки
ATTACH;FMTTYPE=image/jpeg:https://merekeskus.ee/wp-content/uploads/2024/03/Svetlana-Vetrova_nukukunst_2.jpg
END:VEVENT
BEGIN:VEVENT
DTSTART;TZID="Europe/Moscow":20240515T000000
DTEND;TZID="Europe/Moscow":20240808T235959
DTSTAMP:20260421T220008
CREATED:20240429T110716Z
LAST-MODIFIED:20240514T105532Z
UID:31437-1715731200-1723161599@merekeskus.ee
SUMMARY:Детская художественная выставка студии Центра русской культуры «ARTEC» и студии «5+5»\, посвященная Дню Таллинна
DESCRIPTION:\n\n\n \n\n\n\n\n\n\n\n\n\n\n\nВ среду\, 15 мая\, в 16.00\, в очередные празднования Дня Таллинна в правой галерее Центра русской культуры на 1-м этаже состоится открытие детской художественной выставки студии Центра русской культуры «Artec» и студии «5+5». \n\n\n\nНа выставке\, посвященной Дню Таллинна\, будут представлены разнообразные этюдные зарисовки нашего родного и любимого города. \n\n\n\nГорода\, которому не перестаёшь удивляться\, поскольку он красив\, уникален\, графичен и живописен одновременно и имеет свой особый облик\, узнаваемый и труднопостигаемый через те незамысловатые средства\, которыми пользуются юные дарования наших студий: линии\, красочные мазки\, движения кисти\, направленность штриховки и извечные вопросы колорита. \n\n\n\nВсе эти попытки изображения праздника\, «который всегда с тобой»\, то есть нашего города с разных ракурсов и с разных видовых площадок можно будет увидеть в правой галерее Центра русской культуры на 1-м этаже до 8 августа. \n\n\n\nПриходите на выставку и поддержите как юных художников\, так и их учителей — Валерия Лаура и Патрицию Тышкевич. \n\n\n\nВыставка открыта до 8 августа. \n\n\n\nВХОД СВОБОДНЫЙ! \n\n\n\nУважаемые посетители! \n\n\n\nОбращаем ваше внимание на часы работы выставок в Центре русской культуры: \n\n\n\nПН — ПТ с 14 до 19 часовСБ\, ВС — с 11 до 19 часовТакже выставки открыты для посещения во время проведения мероприятий в ЦРК\n\n\n\n\n\n\n
URL:https://merekeskus.ee/ru/event/detskaya-hudozhestvennaya-vystavka-studii-czentra-russkoj-kultury-artec-i-studii-5-5-posvyashhennaya-dnyu-tallinna/
CATEGORIES:Выставки
ATTACH;FMTTYPE=image/jpeg:https://merekeskus.ee/wp-content/uploads/2024/04/Den-Tallinna-detskaya-vystavka.jpg
END:VEVENT
BEGIN:VEVENT
DTSTART;TZID="Europe/Moscow":20240515T133000
DTEND;TZID="Europe/Moscow":20240515T150000
DTSTAMP:20260421T220008
CREATED:20240424T100355Z
LAST-MODIFIED:20240424T100355Z
UID:31178-1715779800-1715785200@merekeskus.ee
SUMMARY:Лекция историка Олега Сидельникова «Артур Шопенгауэр»
DESCRIPTION:\n\n\n \n\n\n\n\n\n\n\n\n\n\n
URL:https://merekeskus.ee/ru/event/lekcziya-istorika-olega-sidelnikova-artur-shopengauer/
CATEGORIES:Лекция
END:VEVENT
BEGIN:VEVENT
DTSTART;TZID="Europe/Moscow":20240515T180000
DTEND;TZID="Europe/Moscow":20240515T190000
DTSTAMP:20260421T220008
CREATED:20240320T100859Z
LAST-MODIFIED:20240507T103659Z
UID:30434-1715796000-1715799600@merekeskus.ee
SUMMARY:Подарок ко Дню Таллинна: премьера детской оперы Центра русской культуры «Архитектор и Архивариус»
DESCRIPTION:\n\n\n \n\n\n\n\n\n\n\n\n\nЦентр русской культуры дарит жителям столицы подарок ко Дню города – премьеру детской оперы «Архитектор и Архивариус»!\n\n\n\nЖдём вас всей семьёй в День Таллинна — 15 мая\, в 18:00 — в Большом зале Центра русской культуры!\n\n\n\nВХОД СВОБОДНЫЙ! \n\n\n\nГлавные герои детской оперы – Архитектор и Архивариус — ведут жаркий спор о том\, каким быть нашему Таллинну. \n\n\n\nКак же примирить хранителей старины и любителей новизны? \n\n\n\nА просто любить наш древний и вечно молодой город! \n\n\n\nПриходите всей семьёй\, поучаствуйте в споре и узнайте\, \nчем дело кончилось. \n\n\n\nВсе города\, как города\,  \n\n\n\nА этот — уникален!  \n\n\n\nЕму столетья — что года\, \n\n\n\nОн не стареет никогда\, \n\n\n\nИ этот город — Таллинн! \n\n\n\nС днём рождения\, любимый город!  \n\n\n\nАВТОРЫ: \n\n\n\nКомпозитор — Владимир ИгнатовЛибретто — Елена ЛаринаРежиссёр — Ирина ТомингасХудожник — Ксения ХаркмааХормейстер — Светлана ЗаугароваВ роли Архивариуса — Эдуард ТоманВ спектакле заняты солисты и музыканты Русского филармонического общества и воспитанники детской хоровой студии «Аллегро» Центра русской культуры \n\n\n\nПродолжительность спектакля 40 минут (без антракта).Рекомендуемый возраст 7+ Спектакль идёт на русском языке. \n\n\n\n\n\n\n\n\n
URL:https://merekeskus.ee/ru/event/podarok-ko-dnyu-tallinna-premera-detskoj-opery-czentra-russkoj-kultury-arhitektor-i-arhivarius/
CATEGORIES:Мероприятие
ATTACH;FMTTYPE=image/png:https://merekeskus.ee/wp-content/uploads/2024/03/Arhitektor-i-Arhivarius.png
END:VEVENT
END:VCALENDAR