BEGIN:VCALENDAR
VERSION:2.0
PRODID:-//Mere Kultuurikeskus - ECPv4.9.4//NONSGML v1.0//EN
CALSCALE:GREGORIAN
METHOD:PUBLISH
X-WR-CALNAME:Mere Kultuurikeskus
X-ORIGINAL-URL:https://merekeskus.ee/ru/
X-WR-CALDESC:Events for Mere Kultuurikeskus
BEGIN:VTIMEZONE
TZID:"Europe/Moscow"
BEGIN:STANDARD
TZOFFSETFROM:+0300
TZOFFSETTO:+0300
TZNAME:MSK
DTSTART:20240101T000000
END:STANDARD
END:VTIMEZONE
BEGIN:VEVENT
DTSTART;TZID="Europe/Moscow":20240403T000000
DTEND;TZID="Europe/Moscow":20240526T235959
DTSTAMP:20260422T054332
CREATED:20240328T094806Z
LAST-MODIFIED:20240429T121338Z
UID:30555-1712102400-1716767999@merekeskus.ee
SUMMARY:Выставка авторских кукол Светланы Ветровой "Кукольное искусство"
DESCRIPTION:\n\n\n \n\n\n\n\n\n\n\n\n\nСветлана Ветрова — член Международного общества авторской куклы (МОАК)\, член Объединения Русских художников Эстонии — приглашает на открытие выставки авторских кукол. \n\n\n\nОткрытие выставки состоится 3 апреля\, в 16:00 на втором этаже Центра русской культуры (стеклянная витрина). \n\n\n\nТехника: куклы из самоотвердевающих и запекаемых пластиков\, папье-маше\, керамики\, текстиля\, лепка\, парики\, обувь\, аксессуары и одежда выполнены вручную.  \n\n\n\nВсе работы в единственном экземпляре. \n\n\n\nЗарегистрирована в «Большой энциклопедии Авторских художественных кукол мира» автора Б. Голдовского как художник-кукольник в Эстонии.  \n\n\n\nСоздаёт авторскую художественную куклу с 1998 года. За это время с 2000 года провела более 60 персональных выставок в Эстонии и за рубежом.  \n\n\n\nЯвляется победителем и лауреатом различных международных кукольных выставок\, конкурсов и фестивалей.   \n\n\n\nИмеет множество дипломов и наград\, среди них особенные : \n\n\n\nнаграда за вклад и продвижение кукольного искусства в Эстонии от Эстонского Дома куколнеоднократно отмечена благодарностями от города и Кохтла-Ярвеского Культурного Центранаграда « Идеальный творец 2016» от Международного союза парапсихологов  Эстонииза творческие достижения Eesti Kultuurkapitaal Эстония\n\n\n\nС 2013 года — руководитель студии авторской куклы в Кохтла-Ярвеском культурном центре\, г. Кохтла-Ярве\, Эстония  \n\n\n\nДата и время мероприятия : 3 апреля\, 16:00 \n\n\n\nМесто: второй этаж Центра русской культуры\, стеклянная витрина \n\n\n\nВыставка открыта для посещения до 26 мая 2024 года. \n\n\n\nВХОД СВОБОДНЫЙ! \n\n\n\nУважаемые посетители! \n\n\n\nОбращаем ваше внимание на часы работы выставок в Центре русской культуры: \n\n\n\nПН — ПТ с 14 до 19 часовСБ\, ВС — с 11 до 19 часовТакже выставки открыты для посещения во время проведения мероприятий в ЦРК\n\n\n\nВХОД СВОБОДНЫЙ. \n\n\n\n \n\n\n\n\n\n\n\n\n
URL:https://merekeskus.ee/ru/event/vystavka-avtorskih-kukol-svetlany-vetrovoj-kukolnoe-iskusstvo/
CATEGORIES:Выставки
ATTACH;FMTTYPE=image/jpeg:https://merekeskus.ee/wp-content/uploads/2024/03/Svetlana-Vetrova_nukukunst_2.jpg
END:VEVENT
BEGIN:VEVENT
DTSTART;TZID="Europe/Moscow":20240515T000000
DTEND;TZID="Europe/Moscow":20240808T235959
DTSTAMP:20260422T054332
CREATED:20240429T110716Z
LAST-MODIFIED:20240514T105532Z
UID:31437-1715731200-1723161599@merekeskus.ee
SUMMARY:Детская художественная выставка студии Центра русской культуры «ARTEC» и студии «5+5»\, посвященная Дню Таллинна
DESCRIPTION:\n\n\n \n\n\n\n\n\n\n\n\n\n\n\nВ среду\, 15 мая\, в 16.00\, в очередные празднования Дня Таллинна в правой галерее Центра русской культуры на 1-м этаже состоится открытие детской художественной выставки студии Центра русской культуры «Artec» и студии «5+5». \n\n\n\nНа выставке\, посвященной Дню Таллинна\, будут представлены разнообразные этюдные зарисовки нашего родного и любимого города. \n\n\n\nГорода\, которому не перестаёшь удивляться\, поскольку он красив\, уникален\, графичен и живописен одновременно и имеет свой особый облик\, узнаваемый и труднопостигаемый через те незамысловатые средства\, которыми пользуются юные дарования наших студий: линии\, красочные мазки\, движения кисти\, направленность штриховки и извечные вопросы колорита. \n\n\n\nВсе эти попытки изображения праздника\, «который всегда с тобой»\, то есть нашего города с разных ракурсов и с разных видовых площадок можно будет увидеть в правой галерее Центра русской культуры на 1-м этаже до 8 августа. \n\n\n\nПриходите на выставку и поддержите как юных художников\, так и их учителей — Валерия Лаура и Патрицию Тышкевич. \n\n\n\nВыставка открыта до 8 августа. \n\n\n\nВХОД СВОБОДНЫЙ! \n\n\n\nУважаемые посетители! \n\n\n\nОбращаем ваше внимание на часы работы выставок в Центре русской культуры: \n\n\n\nПН — ПТ с 14 до 19 часовСБ\, ВС — с 11 до 19 часовТакже выставки открыты для посещения во время проведения мероприятий в ЦРК\n\n\n\n\n\n\n
URL:https://merekeskus.ee/ru/event/detskaya-hudozhestvennaya-vystavka-studii-czentra-russkoj-kultury-artec-i-studii-5-5-posvyashhennaya-dnyu-tallinna/
CATEGORIES:Выставки
ATTACH;FMTTYPE=image/jpeg:https://merekeskus.ee/wp-content/uploads/2024/04/Den-Tallinna-detskaya-vystavka.jpg
END:VEVENT
BEGIN:VEVENT
DTSTART;TZID="Europe/Moscow":20240518T180000
DTEND;TZID="Europe/Moscow":20240526T190000
DTSTAMP:20260422T054332
CREATED:20240419T083655Z
LAST-MODIFIED:20240425T104221Z
UID:30944-1716055200-1716750000@merekeskus.ee
SUMMARY:Дни славянской письменности и культуры 2024 в Центре русской культуры - общая программа
DESCRIPTION:\n\n\n \n\n\n\n\n\n\n\n\n\nДни славянской письменности и культуры 2024 в Центре русской культуры — общая программа\n\n\n\nВ субботу\, 18 мая в Центре русской культуры начинаются традиционные Дни славянской письменности и культуры\, которые празднуются в Эстонии уже более 30 лет. 24 мая славянской письменности исполняется 1162 года. Дни славянской письменности и культуры имеют большое значение\, так как объединяют людей\, наглядно доказывая\, что славяне на эстонской земле помнят и чтут свои корни\, не забывают свои традиции. \n\n\n\nПочти десять дней\, до 26 мая\, наших дорогих зрителей и слушателей ждут ежедневные различные мероприятия — всего 19 — посвященные теме славянской письменности и культуры и каждый интересующийся\, без сомнения\, найдёт себе по душе или концерт\, или лекцию\, или выставку\, или всё вместе\, потому что интересным\, важным и познавательным будет абсолютно всё\, включённое в эту насыщенную программу. \n\n\n\nПрограмма Дней славянской письменности и культуры 2024\n\n\n\nКОНЦЕРТЫ: \n\n\n\n18 мая\, суббота \n\n\n\n18:00  — * Малый зал.  «Голос сердца».  \n\n\n\nКонцертом женского хора Viva Musica (руководитель Сергей Миронов) откроется программа Дней славянской письменности и культуры-2024. В исполнении хора и солистов прозвучат русские романсы\, отрывки из опер и народные песни. Концертмейстер Людмила Одес. \n\n\n\n19 мая\, воскресенье \n\n\n\n13:00  — * Малый зал. Хоровой концерт «Пасхальная радость».  \n\n\n\nВ программу концерта включены традиционные духовные\nправославные Пасхальные песнопения и светские произведения\, отвечающие тематике\nПраздника Воскресения Христова. Участвуют: старший состав хоровой студии Центра\nрусской культуры «Аллегро» (руководитель Светлана Заугарова)\, женский\nхор «Славянка» (руководитель Алина Клочкова\, хормейстер Гоар Овакимян)\, женский хор Viva Musica (руковдитель\nСергей Миронов)\, камерный хор «Элегия» и смешанный хор «Русь» (руководитель\nСветлана Заугарова) \n\n\n\n17:00  — * Малый зал. «Душа поёт». Концерт вокальной студии им. Ольги Лунд. \n\n\n\nВ исполнении солистов студии прозвучат романсы и популярные песни разных лет. Участвуют: Татьяна Верман\, Светлана Титова\, Олеся Титова\, Нина Кумландер\, Татьяна Алимова. Фортепиано – Андраник Кечек. \n\n\n\n21 мая\, вторник \n\n\n\n19:00 – * Малый зал. «Русская словесность».  \n\n\n\nМузыкально-поэтический вечер литературного клуба «Гармония» (руководитель Ольга Чуприна) приглашает друзей на задушевный разговор. \n\n\n\n22 мая\, среда \n\n\n\n18:00 – * Малый зал. Концерт «Голоса славян».  \n\n\n\nПрофессиональные артисты\, солисты Русского филармонического общества (руководитель Владимир Игнатов) соберутся вместе для участия в традиционном тематическом концерте.  Приходите и насладитесь классической вокальной и инструментальной музыкой славянских народов. \n\n\n\n23 мая\, четверг \n\n\n\n17:00  — * Малый зал. Концерт «Мелодии любви».  \n\n\n\nКонцерт вокальной студии «Эхо» (художественный руководитель Людмила Клейнер). Солисты студии\, как всегда\, подготовили для своих зрителей приятную весеннюю программу\, которая создаст хорошее\, праздничное настроение. Участвуют: Галина Лехтсаар (сопрано)\, Людмила Юдаева (сопрано)\, Эльвира Калицева (меццо-сопрано)\, Валентина Игнатенко (меццо-сопрано)\, Андрей Герман (баритон)\, Вера Свечина (поэтесса)\, Людмила Клейнер (концертмейстер). \n\n\n\n24 мая\, пятница \n\n\n\n19:00  — Большой зал. Большой праздничный концерт «День славянской письменности и культуры».  \n\n\n\nПраздничная дата  — 24 мая — будет отмечена большим концертом\, в котором примут участие танцевальные\, вокальные и инструментальные коллективы. В программе концерта музыка\, песни и танцы славянских народов – русские\, белорусские\, украинские. Участвуют: ансамбль народной музыки «Златые горы» (руководитель Игорь Ермаков)\, ансамбль «Лянок» белорусского общества «Лёс» (руководитель Татьяна Нижник)\, хор русской народной песни «Сударушки» (руководитель Елена Беляева)\, танцевальная студия Центра русской культуры ENTRÉE (руководитель Жанна Нефедьева)\, хореографический ансамбль «Колор» (руководитель Нина Гец)\, танцевальная студия «Грация» (руководитель Елена Ахмедова)\,  ансамбль народного танца «Нарва» (руководители Наталья Боровкова и Светлана Сухова). \n\n\n\n25 мая\, суббота \n\n\n\n12:00 – Большой зал. Юбилейный концерт детской вокальной студии «Кнопочки» (руководитель Марина Мартинсон-Кранц). Вместе с друзьями праздничным концертом отпразднует студия «Кнопочки» своё 25-летие. \n\n\n\n15:00 – Малый зал. «Песенные мостки. СУПРЯДКИ — 40». Юбилейный концерт.  \n\n\n\nНарвский фольклорный ансамбль «Супрядки» (руководитель Марина Кувайцева) отпразднует свой 40-летний творческий юбилей в Таллинне. Вместе с «Супрядками» в программе выступят нарвские музыканты и исполнители: Владимир Чердаков и Екатерина Кузнецова\, а также таллиннские коллективы: фольклорный ансамбль «Былица» (руководитель Ирина Взварцева)\, танцевальный ансамбль «Сирин» (руководитель Наталья Миронова)\, баянисты Игорь и Иван Ермаковы.   \n\n\n\n26 мая\, воскресенье \n\n\n\n14:00 – * Малый зал. «30 лет с песней» — юбилейный концерт смешанного хора «Русь».  \n\n\n\nСмешанный хор «Русь» (руководитель\nСветлана Заугарова) приглашает друзей вместе отметить праздничную дату. \n\n\n\n17:00 – * Малый зал. «Весеннее настроение». Концерт ансамбля «Славутич» (руководитель Вячеслав Львов).   \n\n\n\nВ программе прозвучат всеми любимые песни прошлого века\, которым так и хочется подпевать. \n\n\n\nТрадиционно в рамках Дней славянской письменности и культуры Лекторий Центра русской культуры организует цикл тематических лекций. \n\n\n\nЛЕКЦИИ: \n\n\n\n20 мая\,\nпонедельник \n\n\n\n14:00  — Лекторий. «Вокруг света с мольбертом». Онлайн-лекция. \n\n\n\n17:00 – Лекторий. «Из очерков жизни в Эстляндии (рубеж XIX -XX вв.): семья этнографов Харузиных». Лекция культуролога Татьяны Червовой. \n\n\n\n21 мая\, вторник \n\n\n\n12:00 – Лекторий. «Истоки и традиции иконописной школы». Лекция художника Сергея Минина. \n\n\n\n14:30 – Лекторий. «Комедия о вишнёвом саде». Лекция историка Олега Сидельникова. \n\n\n\n23 мая\, четверг \n\n\n\n11:00 – Лекторий. «Славянский цикл  Альфонса Мухи». Лекция художника Валерия Лаура. \n\n\n\n14:00 – * Малый зал. «Марина Влади: русская француженка». Лекция журналиста Эллы Аграновской. \n\n\n\nЕжегодно Дням славянской письменности и культуры посвящены тематические\nхудожественные выставки. \n\n\n\nВЫСТАВКИ: \n\n\n\n20 мая\,\nпонедельник \n\n\n\n16:00 – «Моя любимая сказка». Открытие выставки студий «5+5» и студии Центра русской культуры «ARTEC». \n\n\n\n21 мая\, вторник \n\n\n\n16:00 – «Зри в корень». Открытие выставки Объединения русских художников Эстонии и Группы «N».  \n\n\n\nОрганизаторы: Союз русских просветительных и благотворительных обществ в Эстонии\, Культурное объединение Кирилл и Мефодий в сотрудничестве с Центром русской культуры. \n\n\n\nМероприятия проходят на русском языке. \n\n\n\nВХОД НА ВСЕ МЕРОПРИЯТИЯ СВОБОДНЫЙ! \n\n\n\n* НА\nМЕРОПРИЯТИЯ В МАЛОМ ЗАЛЕ КОЛИЧЕСТВО МЕСТ ОГРАНИЧЕНО!  \n\n\n\n\n\n\n\n\n
URL:https://merekeskus.ee/ru/event/dni-slavyanskoj-pismennosti-i-kultury-2024-v-czentre-russkoj-kultury-obshhaya-programma/
CATEGORIES:Мероприятие
ATTACH;FMTTYPE=image/jpeg:https://merekeskus.ee/wp-content/uploads/2024/04/DSP-Svodnaja-RUS-2024.jpg
END:VEVENT
BEGIN:VEVENT
DTSTART;TZID="Europe/Moscow":20240520T000000
DTEND;TZID="Europe/Moscow":20240915T235959
DTSTAMP:20260422T054332
CREATED:20240426T095340Z
LAST-MODIFIED:20240912T113439Z
UID:31397-1716163200-1726444799@merekeskus.ee
SUMMARY:Дни славянской письменности и культуры 2024: «Моя любимая сказка» - выставка студии «5+5» и студии Центра русской культуры «ARTEC»
DESCRIPTION:\n\n\n \n\n\n\n\n\n\n\n\n\n\n\n Дни славянской письменности и культуры 2024: «Моя любимая сказка» — выставка студии «5+5» и студии Центра русской культуры «ARTEC» \n\n\n\nВ понедельник\, 20 мая\, в 16:00 в левой галерее I-го этажа Центра русской культуры в рамках празднования Дней славянской письменности и культуры 2024 открывается выставка живописных и графических работ детской художественной студии Центра русской культуры «ARTEC» и студии «5+5». \n\n\n\nУже из названия выставки — «Моя любимая сказка» — становится понятно\, что изображения будут связаны с сюжетами\, взятыми из литературы\, из сказок\, мифов\, былин\, одним словом\, из текста\, из богатства\, которым одарено человечество благодаря письменности. \n\n\n\nА кто какие сказки читает и любит\, какие иллюстрации к ним нарисует —  это и есть интрига и предмет выставки. И\, разумеется\, всегда очень интересно сравнивать своё собственное представление об уже заранее известном действии в сказке с тем\, как это решено у юного художника в его иллюстративном предложении\, в его картине. \n\n\n\nЦентр русской культуры приглашает всех желающих на выставку\, чтобы поддержать юные дарования\, их родителей и\, конечно же\, наставников — Патрицию Тышкевич и Валерия Лаура. \n\n\n\nВыставка продлится до 15 сентября. \n\n\n\nЖдём всех желающих! \n\n\n\nВХОД СВОБОДНЫЙ! \n\n\n\nУважаемые посетители! \n\n\n\nОбращаем ваше внимание на часы работы выставок в Центре русской культуры: \n\n\n\nПН — ПТ с 14 до 19 часовСБ\, ВС — с 11 до 19 часовТакже выставки открыты для посещения во время проведения мероприятий в ЦРК\n\n\n\n\n\n\n
URL:https://merekeskus.ee/ru/event/moya-lyubimaya-skazka-vystavka-studii-5-5-i-studii-czentra-russkoj-kultury-artec/
ATTACH;FMTTYPE=image/jpeg:https://merekeskus.ee/wp-content/uploads/2024/04/Moya-lyubimaya-skazka-vystavka.jpg
END:VEVENT
BEGIN:VEVENT
DTSTART;TZID="Europe/Moscow":20240520T140000
DTEND;TZID="Europe/Moscow":20240523T153000
DTSTAMP:20260422T054332
CREATED:20240422T130348Z
LAST-MODIFIED:20240424T102450Z
UID:31070-1716213600-1716478200@merekeskus.ee
SUMMARY:Дни славянской письменности и культуры 2024: лекции
DESCRIPTION:\n\n\n \n\n\n\n\n\n\n\n\n\nДни славянской письменности и культуры 2024: лекции\n\n\n\nТрадиционно в рамках Дней славянской письменности и культуры Лекторий Центра русской культуры организует цикл тематических лекций.  \n\n\n\nЛекторий и Малый зал Центра русской культуры\, 20-23 мая. Вход свободный.  \n\n\n\nРАСПИСАНИЕ ЛЕКЦИЙ: \n\n\n\n20 мая\, понедельник \n\n\n\n14:00\, Лекторий. «Вокруг света с мольбертом». Онлайн-лекция.17:00\, Лекторий. «Из очерков жизни в Эстляндии (рубеж XIX -XX вв): семья этнографов Харузиных». Лекция культуролога Татьяны Червовой. \n\n\n\n21 мая\, вторник \n\n\n\n12:00\, Лекторий. «Истоки и традиции иконописной школы». Лекция художника Сергея Минина. 14:30\, Лекторий. «Комедия о вишнёвом саде». Лекция историка Олега Сидельникова. \n\n\n\n23 мая\, четверг \n\n\n\n11:00\, Лекторий. «Славянский цикл Альфонса Мухи». Лекция художника Валерия Лаура.14:00\, Малый зал. «Марина Влади: русская француженка». Лекция журналиста Эллы Аграновской.\n\n\n\n \n\n\n\nС 18 мая в Центре русской культуры проходят традиционные Дни славянской письменности и культуры\, которые празднуются в Эстонии уже более 30 лет.  24 мая славянской письменности исполняется 1162 года. Дни славянской письменности и культуры имеют большое значение\, так как объединяют людей\, наглядно доказывая\, что славяне на эстонской земле помнят и чтут свои корни\, не забывают свои традиции. \n\n\n\nПочти десять дней\, до 26 мая\, наших дорогих зрителей и слушателей ждут ежедневные различные мероприятия\, посвященные теме славянской письменности и культуры и каждый интересующийся\, без сомнения\, найдёт себе по душе или концерт\, или лекцию\, или выставку\, или всё вместе\, потому что интересным\, важным и познавательным будет абсолютно всё\, включённое в эту насыщенную программу. \n\n\n\nМероприятия проходят на русском языке. \n\n\n\nВХОД НА ВСЕ МЕРОПРИЯТИЯ СВОБОДНЫЙ! \n\n\n\nПРОГРАММА ДНЕЙ СЛАВЯНСКОЙ ПИСЬМЕННОСТИ И КУЛЬТУРЫ 2024 \n\n\n\n\n\n\n\n\n
URL:https://merekeskus.ee/ru/event/dni-slavyanskoj-pismennosti-i-kultury-2024-lekczii/
CATEGORIES:Мероприятие
ATTACH;FMTTYPE=image/jpeg:https://merekeskus.ee/wp-content/uploads/2024/04/Lektsii-2024.jpg
END:VEVENT
BEGIN:VEVENT
DTSTART;TZID="Europe/Moscow":20240520T140000
DTEND;TZID="Europe/Moscow":20240520T153000
DTSTAMP:20260422T054332
CREATED:20240424T100736Z
LAST-MODIFIED:20240424T100736Z
UID:31186-1716213600-1716219000@merekeskus.ee
SUMMARY:Онлайн-лекция «Вокруг света с мольбертом»
DESCRIPTION:\n\n\n \n\n\n\n\n\n\n\n\n\n\n
URL:https://merekeskus.ee/ru/event/onlajn-lekcziya-vokrug-sveta-s-molbertom/
CATEGORIES:Лекция
END:VEVENT
BEGIN:VEVENT
DTSTART;TZID="Europe/Moscow":20240520T170000
DTEND;TZID="Europe/Moscow":20240520T183000
DTSTAMP:20260422T054332
CREATED:20240424T101220Z
LAST-MODIFIED:20240424T101221Z
UID:31188-1716224400-1716229800@merekeskus.ee
SUMMARY:Лекция культуролога Татьяны Червовой "Из очерков жизни в Эстляндии (рубеж XIX -XX вв): семья этнографов Харузиных"
DESCRIPTION:\n\n\n \n\n\n\n\n\n\n\n\n\n\n
URL:https://merekeskus.ee/ru/event/lekcziya-kulturologa-tatyany-chervovoj-iz-ocherkov-zhizni-v-estlyandii-rubezh-xix-xx-vv-semya-etnografov-haruzinyh/
CATEGORIES:Лекция
END:VEVENT
END:VCALENDAR